BEGIN:VCALENDAR
VERSION:2.0
PRODID:-//Novaskill - ECPv6.0.11//NONSGML v1.0//EN
CALSCALE:GREGORIAN
METHOD:PUBLISH
X-ORIGINAL-URL:https://novaskill.com.au
X-WR-CALDESC:Events for Novaskill
REFRESH-INTERVAL;VALUE=DURATION:PT1H
X-Robots-Tag:noindex
X-PUBLISHED-TTL:PT1H
BEGIN:VTIMEZONE
TZID:Australia/Sydney
BEGIN:STANDARD
TZOFFSETFROM:+1100
TZOFFSETTO:+1000
TZNAME:AEST
DTSTART:20240406T160000
END:STANDARD
BEGIN:DAYLIGHT
TZOFFSETFROM:+1000
TZOFFSETTO:+1100
TZNAME:AEDT
DTSTART:20241005T160000
END:DAYLIGHT
END:VTIMEZONE
BEGIN:VEVENT
DTSTART;TZID=Australia/Sydney:20240404T090000
DTEND;TZID=Australia/Sydney:20240405T160000
DTSTAMP:20260426T131213
CREATED:20240117T220420Z
LAST-MODIFIED:20240117T220420Z
UID:21925-1712221200-1712332800@novaskill.com.au
SUMMARY:RSA/RCG - Hunter Valley
DESCRIPTION:Study SITHFAB002 Provide Responsible Service of Alcohol\, commonly known as RSA and SITHGAM001 Provide Responsible Gambling Services\, commonly known as RCG with us in our Hunter Valley based office. Both courses take a full day and are run over a 2-day period with RSA on the first day and RCG on the second. We also require Photo ID and a USI upon enrolment. Enrol now just $349 for both!
URL:https://novaskill.com.au/course-calendar/rsa-rcg-course-apr-24-2/
LOCATION:Private: Novaskill Hunter Valley Office\, 1/162 John Street\,\, Singleton\, NSW\, 2330\, Australia
CATEGORIES:Hospitality,RSA RCG
ATTACH;FMTTYPE=image/jpeg:https://novaskill.com.au/wp-content/uploads/2022/06/shutterstock_785282029-scaled.jpg
ORGANIZER;CN="Novaskill%20Hunter%20Valley":MAILTO:huntervalley@novaskill.com.au
END:VEVENT
BEGIN:VEVENT
DTSTART;TZID=Australia/Sydney:20240415T090000
DTEND;TZID=Australia/Sydney:20240415T140000
DTSTAMP:20260426T131213
CREATED:20240124T064224Z
LAST-MODIFIED:20240124T064224Z
UID:21995-1713171600-1713189600@novaskill.com.au
SUMMARY:Mental Health First Aid - Central Coast
DESCRIPTION:Mental Health First Aid (MHFA) teaches participants how to assist people who are developing a mental health problem\, experiencing a worsening of an existing mental health problem or in a mental health crisis\, until appropriate professional help is received or the crisis resolves. Enrol now in this mixed-mode course\, running face-to-face with a qualified instructor for one day (5 hours) in the Central Coast\, and approx. 5 hours online study.
URL:https://novaskill.com.au/course-calendar/mental-health-first-aid-central-coast-april-15-2024/
LOCATION:Novaskill Central Coast Office\, Suite 15\, 1 Reliance Drive\,\, Tuggerah\, NSW\, 2259\, Australia
CATEGORIES:Mental Health First Aid
ATTACH;FMTTYPE=image/jpeg:https://novaskill.com.au/wp-content/uploads/2020/07/Standard_MHFA_Hero_image_1600x900.jpg
ORGANIZER;CN="Novaskill%20Central%20Coast":MAILTO:centralcoast@novaskill.com.au
END:VEVENT
BEGIN:VEVENT
DTSTART;TZID=Australia/Sydney:20240416T090000
DTEND;TZID=Australia/Sydney:20240416T140000
DTSTAMP:20260426T131213
CREATED:20240124T055628Z
LAST-MODIFIED:20240124T055628Z
UID:21977-1713258000-1713276000@novaskill.com.au
SUMMARY:Mental Health First Aid - Newcastle
DESCRIPTION:Mental Health First Aid (MHFA) teaches participants how to assist people who are developing a mental health problem\, experiencing a worsening of an existing mental health problem or in a mental health crisis\, until appropriate professional help is received or the crisis resolves. Enrol now in this mixed-mode course\, running face-to-face with a qualified instructor for one day (5 hours) in Newcastle\, and approx. 5 hours online study.
URL:https://novaskill.com.au/course-calendar/mental-health-first-aid-newcastle-april-16-2024/
LOCATION:Novaskill Newcastle Office\, 148 Lambton Road\, Broadmeadow\, NSW\, 2292\, Australia
CATEGORIES:Mental Health First Aid
ATTACH;FMTTYPE=image/jpeg:https://novaskill.com.au/wp-content/uploads/2020/07/Standard_MHFA_Hero_image_1600x900.jpg
ORGANIZER;CN="Novaskill%20Newcastle":MAILTO:newcastle@novaskill.com.au
END:VEVENT
BEGIN:VEVENT
DTSTART;TZID=Australia/Sydney:20240418T090000
DTEND;TZID=Australia/Sydney:20240418T140000
DTSTAMP:20260426T131213
CREATED:20240124T063141Z
LAST-MODIFIED:20240124T063141Z
UID:21987-1713430800-1713448800@novaskill.com.au
SUMMARY:Mental Health First Aid - Hunter Valley
DESCRIPTION:Mental Health First Aid (MHFA) teaches participants how to assist people who are developing a mental health problem\, experiencing a worsening of an existing mental health problem or in a mental health crisis\, until appropriate professional help is received or the crisis resolves. Enrol now in this mixed-mode course\, running face-to-face with a qualified instructor for one day (5 hours) in Singleton\, and approx. 5 hours online study.
URL:https://novaskill.com.au/course-calendar/mhfa-hv-april-18-2024/
LOCATION:Private: Novaskill Hunter Valley Office\, 1/162 John Street\,\, Singleton\, NSW\, 2330\, Australia
CATEGORIES:Mental Health First Aid
ATTACH;FMTTYPE=image/jpeg:https://novaskill.com.au/wp-content/uploads/2020/07/Standard_MHFA_Hero_image_1600x900.jpg
ORGANIZER;CN="Novaskill%20Hunter%20Valley":MAILTO:huntervalley@novaskill.com.au
END:VEVENT
BEGIN:VEVENT
DTSTART;TZID=Australia/Sydney:20240422T090000
DTEND;TZID=Australia/Sydney:20240423T160000
DTSTAMP:20260426T131213
CREATED:20240117T025946Z
LAST-MODIFIED:20240117T025946Z
UID:21919-1713776400-1713888000@novaskill.com.au
SUMMARY:RSA/RCG - Coffs Coast
DESCRIPTION:Study SITHFAB002 Provide Responsible Service of Alcohol\, commonly known as RSA and SITHGAM001 Provide Responsible Gambling Services\, commonly known as RCG with us in our Coffs Coast based office. Both courses take a full day and are run over a 2-day period with RSA on the first day and RCG on the second. We also require Photo ID and a USI upon enrolment. Enrol now just $349 for both!
URL:https://novaskill.com.au/course-calendar/rsa-rcg-course-cc-apr-24-2/
LOCATION:Novaskill Coffs Coast Office\, Suite 101-102\, 24 Moonee Street\,\, Coffs Harbour\, NSW\, 2450\, Australia
CATEGORIES:Hospitality,RSA RCG
ATTACH;FMTTYPE=image/jpeg:https://novaskill.com.au/wp-content/uploads/2022/06/shutterstock_785282029-scaled.jpg
ORGANIZER;CN="Novaskill%20Coffs%20Coast":MAILTO:coffscoast@novaskill.com.au
END:VEVENT
BEGIN:VEVENT
DTSTART;TZID=Australia/Sydney:20240424T090000
DTEND;TZID=Australia/Sydney:20240424T140000
DTSTAMP:20260426T131213
CREATED:20240124T052128Z
LAST-MODIFIED:20240124T052128Z
UID:21973-1713949200-1713967200@novaskill.com.au
SUMMARY:Mental Health First Aid - New England
DESCRIPTION:Mental Health First Aid (MHFA) teaches participants how to assist people who are developing a mental health problem\, experiencing a worsening of an existing mental health problem or in a mental health crisis\, until appropriate professional help is received or the crisis resolves. Enrol now in this mixed-mode course\, running face-to-face with a qualified instructor for one day (5 hours) in Tamworth\, and approx. 5 hours online study.
URL:https://novaskill.com.au/course-calendar/mental-health-first-aid-new-england-april-24-2024/
LOCATION:Novaskill New England\, Suite 1\, 137 Marius Street\, Tamworth\, NSW\, 2340\, Australia
CATEGORIES:Mental Health First Aid
ATTACH;FMTTYPE=image/jpeg:https://novaskill.com.au/wp-content/uploads/2020/07/Standard_MHFA_Hero_image_1600x900.jpg
ORGANIZER;CN="Novaskill%20New%20England":MAILTO:kellyc@novaskill.com.au
END:VEVENT
END:VCALENDAR