BEGIN:VCALENDAR
VERSION:2.0
PRODID:-//Novaskill - ECPv6.0.11//NONSGML v1.0//EN
CALSCALE:GREGORIAN
METHOD:PUBLISH
X-WR-CALNAME:Novaskill
X-ORIGINAL-URL:https://novaskill.com.au
X-WR-CALDESC:Events for Novaskill
REFRESH-INTERVAL;VALUE=DURATION:PT1H
X-Robots-Tag:noindex
X-PUBLISHED-TTL:PT1H
BEGIN:VTIMEZONE
TZID:Australia/Sydney
BEGIN:STANDARD
TZOFFSETFROM:+1100
TZOFFSETTO:+1000
TZNAME:AEST
DTSTART:20230401T160000
END:STANDARD
BEGIN:DAYLIGHT
TZOFFSETFROM:+1000
TZOFFSETTO:+1100
TZNAME:AEDT
DTSTART:20230930T160000
END:DAYLIGHT
END:VTIMEZONE
BEGIN:VEVENT
DTSTART;TZID=Australia/Sydney:20231101T090000
DTEND;TZID=Australia/Sydney:20231102T160000
DTSTAMP:20260420T072924
CREATED:20230726T050729Z
LAST-MODIFIED:20231004T033931Z
UID:21612-1698829200-1698940800@novaskill.com.au
SUMMARY:RSA/RCG - Hunter Valley
DESCRIPTION:Get your RSA and RCG in just two days by completing SITHFAB021 Provide Responsible Service of Alcohol and  SITHGAM022 Provide Responsible Gambling Services\, at our Hunter Valley based office. Course runs from 8:30am – 5pm over two days. Photo ID and USI are required. Includes Liquor and Gaming NSW Competency Card. Now just $349 for both RSA and RCG. For more details\, please contact our team.
URL:https://novaskill.com.au/course-calendar/rsa-rcg-course-40-2-2/
LOCATION:Private: Novaskill Hunter Valley Office\, 1/162 John Street\,\, Singleton\, NSW\, 2330\, Australia
CATEGORIES:Hospitality,RSA RCG
ATTACH;FMTTYPE=image/jpeg:https://novaskill.com.au/wp-content/uploads/2022/06/shutterstock_785282029-scaled.jpg
ORGANIZER;CN="Novaskill%20Hunter%20Valley":MAILTO:huntervalley@novaskill.com.au
END:VEVENT
BEGIN:VEVENT
DTSTART;TZID=Australia/Sydney:20231107T080000
DTEND;TZID=Australia/Sydney:20231108T170000
DTSTAMP:20260420T072924
CREATED:20230503T032501Z
LAST-MODIFIED:20230503T032501Z
UID:21415-1699344000-1699462800@novaskill.com.au
SUMMARY:Mental Health First Aid - Coffs Coast
DESCRIPTION:Mental Health First Aid (MHFA) teaches participants how to assist people who are developing a mental health problem\, experiencing a worsening of an existing mental health problem or in a mental health crisis\, until appropriate professional help is received or the crisis resolves. Enrol now in this 2-day course running face-to-face in Coffs Coast.
URL:https://novaskill.com.au/course-calendar/mfha-coffs-coast-nov/
LOCATION:Novaskill Coffs Coast Office\, Suite 101-102\, 24 Moonee Street\,\, Coffs Harbour\, NSW\, 2450\, Australia
CATEGORIES:Mental Health First Aid
ATTACH;FMTTYPE=image/jpeg:https://novaskill.com.au/wp-content/uploads/2020/07/Standard_MHFA_Hero_image_1600x900.jpg
ORGANIZER;CN="Novaskill%20Coffs%20Coast":MAILTO:coffscoast@novaskill.com.au
END:VEVENT
BEGIN:VEVENT
DTSTART;TZID=Australia/Sydney:20231109T080000
DTEND;TZID=Australia/Sydney:20231110T170000
DTSTAMP:20260420T072924
CREATED:20230503T032819Z
LAST-MODIFIED:20230503T032819Z
UID:21417-1699516800-1699635600@novaskill.com.au
SUMMARY:Mental Health First Aid - Mid North Coast
DESCRIPTION:Mental Health First Aid (MHFA) teaches participants how to assist people who are developing a mental health problem\, experiencing a worsening of an existing mental health problem or in a mental health crisis\, until appropriate professional help is received or the crisis resolves. Enrol now in this 2-day course running face-to-face in Mid North Coast.
URL:https://novaskill.com.au/course-calendar/mhfa-mnc-nov/
LOCATION:Novaskill Mid North Coast Office\, Shop 1/136 William Street\, Quayside Building\, Port Macquarie\, NSW\, 2444\, Australia
CATEGORIES:Mental Health First Aid
ATTACH;FMTTYPE=image/jpeg:https://novaskill.com.au/wp-content/uploads/2020/07/Standard_MHFA_Hero_image_1600x900.jpg
ORGANIZER;CN="Novaskill%20Mid%20North%20Coast":MAILTO:midnorthcoast@novaskill.com.au
END:VEVENT
BEGIN:VEVENT
DTSTART;TZID=Australia/Sydney:20231128T080000
DTEND;TZID=Australia/Sydney:20231129T170000
DTSTAMP:20260420T072924
CREATED:20230503T033408Z
LAST-MODIFIED:20230503T033408Z
UID:21423-1701158400-1701277200@novaskill.com.au
SUMMARY:Mental Health First Aid - Central Coast
DESCRIPTION:Mental Health First Aid (MHFA) teaches participants how to assist people who are developing a mental health problem\, experiencing a worsening of an existing mental health problem or in a mental health crisis\, until appropriate professional help is received or the crisis resolves. Enrol now in this 2-day course running face-to-face in the Central Coast.
URL:https://novaskill.com.au/course-calendar/mental-health-first-aid-central-coast-nov/
LOCATION:The Entrance Leagues Club\, 3 Bay Village Road\, Bateau Bay\, NSW\, 2261\, Australia
CATEGORIES:Mental Health First Aid
ATTACH;FMTTYPE=image/jpeg:https://novaskill.com.au/wp-content/uploads/2020/07/Standard_MHFA_Hero_image_1600x900.jpg
ORGANIZER;CN="Novaskill%20Central%20Coast":MAILTO:centralcoast@novaskill.com.au
END:VEVENT
BEGIN:VEVENT
DTSTART;TZID=Australia/Sydney:20231130T080000
DTEND;TZID=Australia/Sydney:20231201T080000
DTSTAMP:20260420T072924
CREATED:20230503T033639Z
LAST-MODIFIED:20230503T033740Z
UID:21425-1701331200-1701417600@novaskill.com.au
SUMMARY:Mental Health First Aid - Newcastle
DESCRIPTION:Mental Health First Aid (MHFA) teaches participants how to assist people who are developing a mental health problem\, experiencing a worsening of an existing mental health problem or in a mental health crisis\, until appropriate professional help is received or the crisis resolves. Enrol now in this 2-day course running face-to-face in Newcastle.
URL:https://novaskill.com.au/course-calendar/mental-health-first-aid-newcastle-nov/
LOCATION:Novaskill Newcastle Office\, 148 Lambton Road\, Broadmeadow\, NSW\, 2292\, Australia
CATEGORIES:Mental Health First Aid
ATTACH;FMTTYPE=image/jpeg:https://novaskill.com.au/wp-content/uploads/2020/07/Standard_MHFA_Hero_image_1600x900.jpg
ORGANIZER;CN="Novaskill%20Newcastle":MAILTO:newcastle@novaskill.com.au
END:VEVENT
END:VCALENDAR