BEGIN:VCALENDAR
VERSION:2.0
PRODID:-//Novaskill - ECPv6.0.11//NONSGML v1.0//EN
CALSCALE:GREGORIAN
METHOD:PUBLISH
X-WR-CALNAME:Novaskill
X-ORIGINAL-URL:https://novaskill.com.au
X-WR-CALDESC:Events for Novaskill
REFRESH-INTERVAL;VALUE=DURATION:PT1H
X-Robots-Tag:noindex
X-PUBLISHED-TTL:PT1H
BEGIN:VTIMEZONE
TZID:Australia/Sydney
BEGIN:STANDARD
TZOFFSETFROM:+1100
TZOFFSETTO:+1000
TZNAME:AEST
DTSTART:20230401T160000
END:STANDARD
BEGIN:DAYLIGHT
TZOFFSETFROM:+1000
TZOFFSETTO:+1100
TZNAME:AEDT
DTSTART:20230930T160000
END:DAYLIGHT
END:VTIMEZONE
BEGIN:VEVENT
DTSTART;TZID=Australia/Sydney:20231003T080000
DTEND;TZID=Australia/Sydney:20231004T170000
DTSTAMP:20260420T084355
CREATED:20230503T031603Z
LAST-MODIFIED:20230503T031603Z
UID:21407-1696320000-1696438800@novaskill.com.au
SUMMARY:Mental Health First Aid - Northern Rivers
DESCRIPTION:Mental Health First Aid (MHFA) teaches participants how to assist people who are developing a mental health problem\, experiencing a worsening of an existing mental health problem or in a mental health crisis\, until appropriate professional help is received or the crisis resolves. Enrol now in this 2-day course running face-to-face in the Northern Rivers.
URL:https://novaskill.com.au/course-calendar/mhfa-nr-oct-2-2/
LOCATION:Novaskill Northern Rivers Office\, 58 Tamar Street\,\, Ballina\, NSW\, 2478\, Australia
CATEGORIES:Mental Health First Aid
ATTACH;FMTTYPE=image/jpeg:https://novaskill.com.au/wp-content/uploads/2020/07/Standard_MHFA_Hero_image_1600x900.jpg
ORGANIZER;CN="Novaskill%20Northern%20Rivers":MAILTO:northernrivers@novaskill.com.au
END:VEVENT
BEGIN:VEVENT
DTSTART;TZID=Australia/Sydney:20231005T080000
DTEND;TZID=Australia/Sydney:20231006T170000
DTSTAMP:20260420T084355
CREATED:20230503T032035Z
LAST-MODIFIED:20230503T032035Z
UID:21412-1696492800-1696611600@novaskill.com.au
SUMMARY:Mental Health First Aid - Gold Coast
DESCRIPTION:Mental Health First Aid (MHFA) teaches participants how to assist people who are developing a mental health problem\, experiencing a worsening of an existing mental health problem or in a mental health crisis\, until appropriate professional help is received or the crisis resolves. Enrol now in this 2-day course running face-to-face in the Gold Coast.
URL:https://novaskill.com.au/course-calendar/mental-health-first-aid-gc-oct/
LOCATION:Novaskill Gold Coast Office\, Suite 1\, 146 Bundall Road\,\, Bunal\, QLD\, 4217\, Australia
CATEGORIES:Mental Health First Aid
ATTACH;FMTTYPE=image/jpeg:https://novaskill.com.au/wp-content/uploads/2020/07/Standard_MHFA_Hero_image_1600x900.jpg
ORGANIZER;CN="Novaskill%20Gold%20Coast":MAILTO:southeastqueensland@novaskill.com.au
END:VEVENT
BEGIN:VEVENT
DTSTART;TZID=Australia/Sydney:20231005T090000
DTEND;TZID=Australia/Sydney:20231006T160000
DTSTAMP:20260420T084355
CREATED:20230726T050713Z
LAST-MODIFIED:20230726T052810Z
UID:21613-1696496400-1696608000@novaskill.com.au
SUMMARY:RSA/RCG - Hunter Valley
DESCRIPTION:Get your RSA and RCG in just two days by completing SITHFAB021 Provide Responsible Service of Alcohol and  SITHGAM022 Provide Responsible Gambling Services\, at our Hunter Valley based office. Course runs from 8:30am – 5pm over two days. Photo ID and USI are required. Includes Liquor and Gaming NSW Competency Card. Now just $349 for both RSA and RCG. For more details\, please contact our team.
URL:https://novaskill.com.au/course-calendar/rsa-rcg-course-38-2-2/
LOCATION:Private: Novaskill Hunter Valley Office\, 1/162 John Street\,\, Singleton\, NSW\, 2330\, Australia
CATEGORIES:Hospitality,RSA RCG
ATTACH;FMTTYPE=image/jpeg:https://novaskill.com.au/wp-content/uploads/2022/06/shutterstock_785282029-scaled.jpg
ORGANIZER;CN="Novaskill%20Hunter%20Valley":MAILTO:huntervalley@novaskill.com.au
END:VEVENT
BEGIN:VEVENT
DTSTART;TZID=Australia/Sydney:20231010T083000
DTEND;TZID=Australia/Sydney:20231011T163000
DTSTAMP:20260420T084355
CREATED:20230906T050355Z
LAST-MODIFIED:20230906T050355Z
UID:21698-1696926600-1697041800@novaskill.com.au
SUMMARY:RSA and RCG - Coffs Coast
DESCRIPTION:Get your RSA and RCG in just two days by completing SITHFAB021 Provide Responsible Service of Alcohol and  SITHGAM022 Provide Responsible Gambling Services\, at our Coffs Coast based office. Course runs from 8:30am – 4:30pm over two days. Photo ID and USI are required. Includes Liquor and Gaming NSW Competency Card. Now just $349 for both RSA and RCG. For more details\, please contact our team.
URL:https://novaskill.com.au/course-calendar/rsa-rcg-coffs-october-23-2-2/
LOCATION:Novaskill Coffs Coast Office\, Suite 101-102\, 24 Moonee Street\,\, Coffs Harbour\, NSW\, 2450\, Australia
CATEGORIES:Hospitality,RSA RCG
ATTACH;FMTTYPE=image/jpeg:https://novaskill.com.au/wp-content/uploads/2017/08/black-and-white-alcohol-bar-drinks.jpg
ORGANIZER;CN="Novaskill%20Coffs%20Coast":MAILTO:coffscoast@novaskill.com.au
END:VEVENT
BEGIN:VEVENT
DTSTART;TZID=Australia/Sydney:20231024T080000
DTEND;TZID=Australia/Sydney:20231025T170000
DTSTAMP:20260420T084355
CREATED:20230503T033041Z
LAST-MODIFIED:20230503T033041Z
UID:21419-1698134400-1698253200@novaskill.com.au
SUMMARY:Mental Health First Aid - New England
DESCRIPTION:Mental Health First Aid (MHFA) teaches participants how to assist people who are developing a mental health problem\, experiencing a worsening of an existing mental health problem or in a mental health crisis\, until appropriate professional help is received or the crisis resolves. Enrol now in this 2-day course running face-to-face in New England.
URL:https://novaskill.com.au/course-calendar/mental-health-first-aid-new-england-oct/
LOCATION:Novaskill New England\, Suite 1\, 137 Marius Street\, Tamworth\, NSW\, 2340\, Australia
CATEGORIES:Mental Health First Aid
ATTACH;FMTTYPE=image/jpeg:https://novaskill.com.au/wp-content/uploads/2020/07/Standard_MHFA_Hero_image_1600x900.jpg
ORGANIZER;CN="Novaskill%20New%20England":MAILTO:kellyc@novaskill.com.au
END:VEVENT
BEGIN:VEVENT
DTSTART;TZID=Australia/Sydney:20231026T080000
DTEND;TZID=Australia/Sydney:20231027T170000
DTSTAMP:20260420T084355
CREATED:20230503T033207Z
LAST-MODIFIED:20230503T033207Z
UID:21421-1698307200-1698426000@novaskill.com.au
SUMMARY:Mental Health First Aid - Hunter Valley
DESCRIPTION:Mental Health First Aid (MHFA) teaches participants how to assist people who are developing a mental health problem\, experiencing a worsening of an existing mental health problem or in a mental health crisis\, until appropriate professional help is received or the crisis resolves. Enrol now in this 2-day course running face-to-face in Hunter Valley.
URL:https://novaskill.com.au/course-calendar/mhfa-hv-oct/
LOCATION:Private: Novaskill Hunter Valley Office\, 1/162 John Street\,\, Singleton\, NSW\, 2330\, Australia
CATEGORIES:Mental Health First Aid
ATTACH;FMTTYPE=image/jpeg:https://novaskill.com.au/wp-content/uploads/2020/07/Standard_MHFA_Hero_image_1600x900.jpg
ORGANIZER;CN="Novaskill%20Hunter%20Valley":MAILTO:huntervalley@novaskill.com.au
END:VEVENT
END:VCALENDAR