BEGIN:VCALENDAR
VERSION:2.0
PRODID:-//Novaskill - ECPv6.0.11//NONSGML v1.0//EN
CALSCALE:GREGORIAN
METHOD:PUBLISH
X-ORIGINAL-URL:https://novaskill.com.au
X-WR-CALDESC:Events for Novaskill
REFRESH-INTERVAL;VALUE=DURATION:PT1H
X-Robots-Tag:noindex
X-PUBLISHED-TTL:PT1H
BEGIN:VTIMEZONE
TZID:Australia/Sydney
BEGIN:STANDARD
TZOFFSETFROM:+1100
TZOFFSETTO:+1000
TZNAME:AEST
DTSTART:20230401T160000
END:STANDARD
BEGIN:DAYLIGHT
TZOFFSETFROM:+1000
TZOFFSETTO:+1100
TZNAME:AEDT
DTSTART:20230930T160000
END:DAYLIGHT
END:VTIMEZONE
BEGIN:VEVENT
DTSTART;TZID=Australia/Sydney:20230605T080000
DTEND;TZID=Australia/Sydney:20230606T170000
DTSTAMP:20260422T183252
CREATED:20230227T003026Z
LAST-MODIFIED:20230503T023808Z
UID:21215-1685952000-1686070800@novaskill.com.au
SUMMARY:Mental Health First Aid - Northern Rivers
DESCRIPTION:Mental Health First Aid (MHFA) teaches participants how to assist people who are developing a mental health problem\, experiencing a worsening of an existing mental health problem or in a mental health crisis\, until appropriate professional help is received or the crisis resolves. Enrol now in this 2-day course running face-to-face in the Northern Rivers.
URL:https://novaskill.com.au/course-calendar/mhfa-nr-jun/
LOCATION:Novaskill Northern Rivers Office\, 58 Tamar Street\,\, Ballina\, NSW\, 2478\, Australia
CATEGORIES:Mental Health First Aid
ATTACH;FMTTYPE=image/jpeg:https://novaskill.com.au/wp-content/uploads/2020/07/Standard_MHFA_Hero_image_1600x900.jpg
ORGANIZER;CN="Novaskill%20Northern%20Rivers":MAILTO:northernrivers@novaskill.com.au
END:VEVENT
BEGIN:VEVENT
DTSTART;TZID=Australia/Sydney:20230607T080000
DTEND;TZID=Australia/Sydney:20230608T170000
DTSTAMP:20260422T183252
CREATED:20230503T022737Z
LAST-MODIFIED:20230503T032325Z
UID:21389-1686124800-1686243600@novaskill.com.au
SUMMARY:Mental Health First Aid - Gold Coast
DESCRIPTION:Mental Health First Aid (MHFA) teaches participants how to assist people who are developing a mental health problem\, experiencing a worsening of an existing mental health problem or in a mental health crisis\, until appropriate professional help is received or the crisis resolves. Enrol now in this 2-day course running face-to-face in the Gold Coast.
URL:https://novaskill.com.au/course-calendar/mental-health-first-aid-gc-may/
LOCATION:NSW
CATEGORIES:Mental Health First Aid
ATTACH;FMTTYPE=image/jpeg:https://novaskill.com.au/wp-content/uploads/2020/07/Standard_MHFA_Hero_image_1600x900.jpg
ORGANIZER;CN="Novaskill%20Gold%20Coast":MAILTO:southeastqueensland@novaskill.com.au
END:VEVENT
BEGIN:VEVENT
DTSTART;TZID=Australia/Sydney:20230608T090000
DTEND;TZID=Australia/Sydney:20230608T160000
DTSTAMP:20260422T183252
CREATED:20230112T224326Z
LAST-MODIFIED:20230305T224752Z
UID:20949-1686214800-1686240000@novaskill.com.au
SUMMARY:RSA - Newcastle
DESCRIPTION:Get your RSA in one day by completing SITHFAB021 Provide Responsible Service of Alcohol\, at our Newcastle based office. Course runs from 9am – 4pm. Photo ID and USI required. Includes Liquor and Gaming NSW Competency Card. Now just $220 per person or $349 for both RSA and RCG. For more details\, please contact our team.
URL:https://novaskill.com.au/course-calendar/rsa-new-june/
LOCATION:Novaskill Newcastle Office\, 148 Lambton Road\, Broadmeadow\, NSW\, 2292\, Australia
CATEGORIES:Hospitality,RSA RCG
ATTACH;FMTTYPE=image/jpeg:https://novaskill.com.au/wp-content/uploads/2017/08/black-and-white-alcohol-bar-drinks.jpg
ORGANIZER;CN="Novaskill%20Newcastle":MAILTO:newcastle@novaskill.com.au
END:VEVENT
BEGIN:VEVENT
DTSTART;TZID=Australia/Sydney:20230609T090000
DTEND;TZID=Australia/Sydney:20230609T163000
DTSTAMP:20260422T183252
CREATED:20230112T225214Z
LAST-MODIFIED:20230305T225446Z
UID:20959-1686301200-1686328200@novaskill.com.au
SUMMARY:RCG - Newcastle
DESCRIPTION:Get your RCG in one day by completing SITHGAM022 Provide Responsible Gambling Services\, commonly known as RCG with us at our Newcastle based office. Course runs from 9am – 4:30pm. Photo ID and USI are required. A generous discount is available if completing SITHFAB021 Provide Responsible Service of Alcohol\, commonly known as RSA also. Now just $180 per person or $349 for both RSA & RCG. \nFor more details\, please contact our team.
URL:https://novaskill.com.au/course-calendar/rcg-new-june/
LOCATION:Novaskill Newcastle Office\, 148 Lambton Road\, Broadmeadow\, NSW\, 2292\, Australia
CATEGORIES:Hospitality,RSA RCG
ATTACH;FMTTYPE=image/jpeg:https://novaskill.com.au/wp-content/uploads/2017/08/addiction-bet-betting-casino.jpg
ORGANIZER;CN="Novaskill%20Newcastle":MAILTO:newcastle@novaskill.com.au
END:VEVENT
BEGIN:VEVENT
DTSTART;TZID=Australia/Sydney:20230619T080000
DTEND;TZID=Australia/Sydney:20230620T170000
DTSTAMP:20260422T183252
CREATED:20230503T010031Z
LAST-MODIFIED:20230503T013333Z
UID:21372-1687161600-1687280400@novaskill.com.au
SUMMARY:Mental Health First Aid - New England
DESCRIPTION:Mental Health First Aid (MHFA) teaches participants how to assist people who are developing a mental health problem\, experiencing a worsening of an existing mental health problem or in a mental health crisis\, until appropriate professional help is received or the crisis resolves. Enrol now in this 2-day course running face-to-face in New England.
URL:https://novaskill.com.au/course-calendar/mental-health-first-aid-new-england-2/
LOCATION:NSW
CATEGORIES:Mental Health First Aid
ATTACH;FMTTYPE=image/jpeg:https://novaskill.com.au/wp-content/uploads/2020/07/Standard_MHFA_Hero_image_1600x900.jpg
ORGANIZER;CN="Novaskill%20New%20England":MAILTO:kellyc@novaskill.com.au
END:VEVENT
BEGIN:VEVENT
DTSTART;TZID=Australia/Sydney:20230621T080000
DTEND;TZID=Australia/Sydney:20230622T170000
DTSTAMP:20260422T183252
CREATED:20230227T003348Z
LAST-MODIFIED:20230503T010332Z
UID:21219-1687334400-1687453200@novaskill.com.au
SUMMARY:Mental Health First Aid - Hunter Valley
DESCRIPTION:Mental Health First Aid (MHFA) teaches participants how to assist people who are developing a mental health problem\, experiencing a worsening of an existing mental health problem or in a mental health crisis\, until appropriate professional help is received or the crisis resolves. Enrol now in this 2-day course running face-to-face in Hunter Valley.
URL:https://novaskill.com.au/course-calendar/mhfa-hv-jun-2-2/
LOCATION:Private: Novaskill Hunter Valley Office\, 1/162 John Street\,\, Singleton\, NSW\, 2330\, Australia
CATEGORIES:Mental Health First Aid
ATTACH;FMTTYPE=image/jpeg:https://novaskill.com.au/wp-content/uploads/2020/07/Standard_MHFA_Hero_image_1600x900.jpg
ORGANIZER;CN="Novaskill%20Hunter%20Valley":MAILTO:huntervalley@novaskill.com.au
END:VEVENT
BEGIN:VEVENT
DTSTART;TZID=Australia/Sydney:20230626T083000
DTEND;TZID=Australia/Sydney:20230626T160000
DTSTAMP:20260422T183252
CREATED:20221013T054353Z
LAST-MODIFIED:20221013T054353Z
UID:20915-1687768200-1687795200@novaskill.com.au
SUMMARY:First Aid Certificate - New England
DESCRIPTION:Be prepared in an emergency by completing your first aid certificate with H&A Training at Novaskill. Includes HLTAID009 Provide cardiopulmonary resuscitation\, HLTAID010 Provide basic emergency life support and HLTAID011 Provide First Aid. Enquire now for full course and CPR only prices. \nPlease note: statement of attainment will be issued by H&A Training RTO 90871.
URL:https://novaskill.com.au/course-calendar/first-aid-certificate-cc-tam-2023-06-26/
LOCATION:Novaskill New England\, Suite 1\, 137 Marius Street\, Tamworth\, NSW\, 2340\, Australia
CATEGORIES:First Aid
ATTACH;FMTTYPE=image/jpeg:https://novaskill.com.au/wp-content/uploads/2022/06/shutterstock_1039228732-scaled.jpg
ORGANIZER;CN="Novaskill%20New%20England":MAILTO:kellyc@novaskill.com.au
END:VEVENT
END:VCALENDAR