BEGIN:VCALENDAR
VERSION:2.0
PRODID:-//Novaskill - ECPv6.0.11//NONSGML v1.0//EN
CALSCALE:GREGORIAN
METHOD:PUBLISH
X-WR-CALNAME:Novaskill
X-ORIGINAL-URL:https://novaskill.com.au
X-WR-CALDESC:Events for Novaskill
REFRESH-INTERVAL;VALUE=DURATION:PT1H
X-Robots-Tag:noindex
X-PUBLISHED-TTL:PT1H
BEGIN:VTIMEZONE
TZID:Australia/Sydney
BEGIN:STANDARD
TZOFFSETFROM:+1100
TZOFFSETTO:+1000
TZNAME:AEST
DTSTART:20180331T160000
END:STANDARD
BEGIN:DAYLIGHT
TZOFFSETFROM:+1000
TZOFFSETTO:+1100
TZNAME:AEDT
DTSTART:20181006T160000
END:DAYLIGHT
END:VTIMEZONE
BEGIN:VEVENT
DTSTART;TZID=Australia/Sydney:20180226T090000
DTEND;TZID=Australia/Sydney:20180226T160000
DTSTAMP:20260423T045113
CREATED:20180219T225133Z
LAST-MODIFIED:20180219T225410Z
UID:9522-1519635600-1519660800@novaskill.com.au
SUMMARY:SITHFAB002 Provide Responsible Service of Alcohol - Lismore
DESCRIPTION:Study SITHFAB002 Provide Responsible Service of Alcohol\, commonly known as RSA with us at East Lismore Bowling Club. Photo ID is required and discounts are available if completing SITHGAM0014 Provide Responsible Gambling Services\, commonly known as RCG also. Contact us now for details.
URL:https://novaskill.com.au/course-calendar/sithfab002-provide-responsible-service-alcohol-lismore/
LOCATION:NSW
CATEGORIES:RSA RCG
END:VEVENT
END:VCALENDAR