BEGIN:VCALENDAR
VERSION:2.0
PRODID:-//Novaskill - ECPv6.0.11//NONSGML v1.0//EN
CALSCALE:GREGORIAN
METHOD:PUBLISH
X-ORIGINAL-URL:https://novaskill.com.au
X-WR-CALDESC:Events for Novaskill
REFRESH-INTERVAL;VALUE=DURATION:PT1H
X-Robots-Tag:noindex
X-PUBLISHED-TTL:PT1H
BEGIN:VTIMEZONE
TZID:Australia/Sydney
BEGIN:STANDARD
TZOFFSETFROM:+1100
TZOFFSETTO:+1000
TZNAME:AEST
DTSTART:20180331T160000
END:STANDARD
BEGIN:DAYLIGHT
TZOFFSETFROM:+1000
TZOFFSETTO:+1100
TZNAME:AEDT
DTSTART:20181006T160000
END:DAYLIGHT
END:VTIMEZONE
BEGIN:VEVENT
DTSTART;TZID=Australia/Sydney:20180312T090000
DTEND;TZID=Australia/Sydney:20180312T160000
DTSTAMP:20260422T073758
CREATED:20180219T232503Z
LAST-MODIFIED:20180219T232503Z
UID:9534-1520845200-1520870400@novaskill.com.au
SUMMARY:SITHFAB002 Provide Responsible Service of Alcohol - Ballina
DESCRIPTION:Study SITHFAB002 Provide Responsible Service of Alcohol\, commonly known as RSA with us at Ballina Seaguls Football Club. Course runs from 9:00am – 4:00pm. Photo ID is required and discounts are available if completing SITHGAM0014 Provide Responsible Gambling Services\, commonly known as RCG also. Contact us now for details.
URL:https://novaskill.com.au/course-calendar/sithfab002-provide-responsible-service-alcohol-ballina/
LOCATION:NSW
CATEGORIES:RSA RCG
END:VEVENT
BEGIN:VEVENT
DTSTART;TZID=Australia/Sydney:20180313T090000
DTEND;TZID=Australia/Sydney:20180313T160000
DTSTAMP:20260422T073758
CREATED:20180219T232638Z
LAST-MODIFIED:20180219T232638Z
UID:9536-1520931600-1520956800@novaskill.com.au
SUMMARY:SITHGAM001 Provide Responsible Gambling Services - Ballina
DESCRIPTION:Study SITHGAM001 Provide Responsible Gambling Services\, commonly known as RCG with us at Ballina Seagulls Football Club. Photo ID is required and discounts are available if completing SITHFAB002 Provide Responsible Service of Alcohol\, commonly known as RSA also. Contact us now for more details.
URL:https://novaskill.com.au/course-calendar/sithgam001-provide-responsible-gambling-services-ballina/
LOCATION:NSW
CATEGORIES:RSA RCG
END:VEVENT
END:VCALENDAR