BEGIN:VCALENDAR
VERSION:2.0
PRODID:-//Novaskill - ECPv6.0.11//NONSGML v1.0//EN
CALSCALE:GREGORIAN
METHOD:PUBLISH
X-ORIGINAL-URL:https://novaskill.com.au
X-WR-CALDESC:Events for Novaskill
REFRESH-INTERVAL;VALUE=DURATION:PT1H
X-Robots-Tag:noindex
X-PUBLISHED-TTL:PT1H
BEGIN:VTIMEZONE
TZID:Australia/Sydney
BEGIN:STANDARD
TZOFFSETFROM:+1100
TZOFFSETTO:+1000
TZNAME:AEST
DTSTART:20190406T160000
END:STANDARD
BEGIN:DAYLIGHT
TZOFFSETFROM:+1000
TZOFFSETTO:+1100
TZNAME:AEDT
DTSTART:20191005T160000
END:DAYLIGHT
END:VTIMEZONE
BEGIN:VEVENT
DTSTART;TZID=Australia/Sydney:20190814T093000
DTEND;TZID=Australia/Sydney:20190814T163000
DTSTAMP:20260422T073617
CREATED:20190508T031138Z
LAST-MODIFIED:20190508T031138Z
UID:11355-1565775000-1565800200@novaskill.com.au
SUMMARY:One Day RSA Course - Mid North Coast
DESCRIPTION:Study SITHFAB002 Provide Responsible Service of Alcohol\, commonly known as RSA with us at the Kempsey RSL. Course runs from 9:30am – 4:30pm. Photo ID is required and discounts are available if completing SITHGAM001 Provide Responsible Gambling Services\, commonly known as RCG also for a combined price of $295.00. Contact us now for details. \n*Details may subject to change*
URL:https://novaskill.com.au/course-calendar/one-day-rsa-course-mid-north-coast-5/
LOCATION:NSW
CATEGORIES:RSA RCG
END:VEVENT
END:VCALENDAR