BEGIN:VCALENDAR
VERSION:2.0
PRODID:-//Novaskill - ECPv6.0.11//NONSGML v1.0//EN
CALSCALE:GREGORIAN
METHOD:PUBLISH
X-WR-CALNAME:Novaskill
X-ORIGINAL-URL:https://novaskill.com.au
X-WR-CALDESC:Events for Novaskill
REFRESH-INTERVAL;VALUE=DURATION:PT1H
X-Robots-Tag:noindex
X-PUBLISHED-TTL:PT1H
BEGIN:VTIMEZONE
TZID:Australia/Sydney
BEGIN:STANDARD
TZOFFSETFROM:+1100
TZOFFSETTO:+1000
TZNAME:AEST
DTSTART:20190406T160000
END:STANDARD
BEGIN:DAYLIGHT
TZOFFSETFROM:+1000
TZOFFSETTO:+1100
TZNAME:AEDT
DTSTART:20191005T160000
END:DAYLIGHT
END:VTIMEZONE
BEGIN:VEVENT
DTSTART;TZID=Australia/Sydney:20190410T090000
DTEND;TZID=Australia/Sydney:20190410T160000
DTSTAMP:20260422T083304
CREATED:20190329T022453Z
LAST-MODIFIED:20190329T022453Z
UID:11233-1554886800-1554912000@novaskill.com.au
SUMMARY:Certificate lll in Hospitality - Nambucca Valley
DESCRIPTION:Study SIT30616 Certificate III in Hospitality with us at Bowraville Recreational Club. Course runs from 9:00am – 4:00pm on Wednesdays and Thursdays weekly over 14 weeks with 120 hours of work placement. Price is determined on eligibility requirements and concessions may be available. For more details\, please enquire now! \n*Details may be subject to change*
URL:https://novaskill.com.au/course-calendar/certificate-lll-in-hospitality-nambucca-valley/
LOCATION:NSW
CATEGORIES:Hospitality
END:VEVENT
END:VCALENDAR