BEGIN:VCALENDAR
VERSION:2.0
PRODID:-//Novaskill - ECPv6.0.11//NONSGML v1.0//EN
CALSCALE:GREGORIAN
METHOD:PUBLISH
X-WR-CALNAME:Novaskill
X-ORIGINAL-URL:https://novaskill.com.au
X-WR-CALDESC:Events for Novaskill
REFRESH-INTERVAL;VALUE=DURATION:PT1H
X-Robots-Tag:noindex
X-PUBLISHED-TTL:PT1H
BEGIN:VTIMEZONE
TZID:Australia/Sydney
BEGIN:STANDARD
TZOFFSETFROM:+1100
TZOFFSETTO:+1000
TZNAME:AEST
DTSTART:20210403T160000
END:STANDARD
BEGIN:DAYLIGHT
TZOFFSETFROM:+1000
TZOFFSETTO:+1100
TZNAME:AEDT
DTSTART:20211002T160000
END:DAYLIGHT
END:VTIMEZONE
BEGIN:VEVENT
DTSTART;TZID=Australia/Sydney:20210302T100000
DTEND;TZID=Australia/Sydney:20210302T160000
DTSTAMP:20260425T045847
CREATED:20210110T223443Z
LAST-MODIFIED:20210408T043531Z
UID:16425-1614679200-1614700800@novaskill.com.au
SUMMARY:Barista with Bree - Coffs Coast
DESCRIPTION:Want to ensure your coffee is perfect every time? This is for you! Join our experienced trainer and cafe owner\, Bree\, as she imparts her renowned barista skills to a small class. Dates may vary and can be customised to suit business needs with minimum numbers. Please call for details.
URL:https://novaskill.com.au/course-calendar/barista-with-bree/
LOCATION:Novaskill Coffs Coast Office\, Suite 101-102\, 24 Moonee Street\,\, Coffs Harbour\, NSW\, 2450\, Australia
CATEGORIES:Barista,Hospitality
ATTACH;FMTTYPE=image/jpeg:https://novaskill.com.au/wp-content/uploads/2021/01/mecoffee-scaled.jpg
ORGANIZER;CN="Novaskill%20Coffs%20Coast":MAILTO:coffscoast@novaskill.com.au
END:VEVENT
END:VCALENDAR