BEGIN:VCALENDAR
VERSION:2.0
PRODID:-//Novaskill - ECPv6.0.11//NONSGML v1.0//EN
CALSCALE:GREGORIAN
METHOD:PUBLISH
X-WR-CALNAME:Novaskill
X-ORIGINAL-URL:https://novaskill.com.au
X-WR-CALDESC:Events for Novaskill
REFRESH-INTERVAL;VALUE=DURATION:PT1H
X-Robots-Tag:noindex
X-PUBLISHED-TTL:PT1H
BEGIN:VTIMEZONE
TZID:Australia/Sydney
BEGIN:STANDARD
TZOFFSETFROM:+1100
TZOFFSETTO:+1000
TZNAME:AEST
DTSTART:20190406T160000
END:STANDARD
BEGIN:DAYLIGHT
TZOFFSETFROM:+1000
TZOFFSETTO:+1100
TZNAME:AEDT
DTSTART:20191005T160000
END:DAYLIGHT
END:VTIMEZONE
BEGIN:VEVENT
DTSTART;TZID=Australia/Sydney:20190501T100000
DTEND;TZID=Australia/Sydney:20190501T160000
DTSTAMP:20260422T000854
CREATED:20190328T224939Z
LAST-MODIFIED:20190328T224939Z
UID:11164-1556704800-1556726400@novaskill.com.au
SUMMARY:1 Day Barista Skills Course - Central Coast
DESCRIPTION:Study Barista Skills – Non Accredited Course with us at Novaskill Central Coast Training Rooms. Course runs from 10:00am – 4:00pm and is $135pp. Training is Non- Accredited. Barista training covers coffee grinding\, extracting\, preparing popular espresso coffees\, texturing milk\, service techniques and espresso coffee product knowledge. \n*Details may be subject to change*
URL:https://novaskill.com.au/course-calendar/1-day-barista-skills-course-central-coast-2/
LOCATION:NSW
CATEGORIES:Barista
END:VEVENT
BEGIN:VEVENT
DTSTART;TZID=Australia/Sydney:20190509T090000
DTEND;TZID=Australia/Sydney:20190509T160000
DTSTAMP:20260422T000854
CREATED:20190328T233746Z
LAST-MODIFIED:20190328T234319Z
UID:11194-1557392400-1557417600@novaskill.com.au
SUMMARY:1 Day RSA Course - Northern Rivers
DESCRIPTION:Study SITHFAB001 Provide Responsible Service of Alcohol\, commonly known as RSA with us at Cherry Street Bowling Club. Course runs from 9:00am – 4:00pm for $180.00pp. Photo ID is required and discounts are available if completing SITHGAM001 Provide Responsible Gambling Services\, commonly known as RCG also for a combing price of $290.00pp. Participant must be 18 years and over. Contact us now for details. \n*Details may be subject to change*
URL:https://novaskill.com.au/course-calendar/1-day-rsa-course-northern-rivers-2/
LOCATION:NSW
CATEGORIES:RSA RCG
END:VEVENT
BEGIN:VEVENT
DTSTART;TZID=Australia/Sydney:20190510T090000
DTEND;TZID=Australia/Sydney:20190510T160000
DTSTAMP:20260422T000854
CREATED:20190329T000731Z
LAST-MODIFIED:20190329T000731Z
UID:11215-1557478800-1557504000@novaskill.com.au
SUMMARY:1 Day RCG Course - Northern Rivers
DESCRIPTION:Study SITHGAM001 Provide Responsible Gambling Services\, commonly known as RCG with us at Cherry Street Bowling Club for $140.00pp. Two forms of Photo ID are required and discounts are available if completing SITHFAB001 Provide Responsible Service of Alcohol\, commonly known as RSA also for a combining price of $290.00pp. Contact us now for more details. Participant must be 18 years and over. \n*Details may be subject to change*
URL:https://novaskill.com.au/course-calendar/1-day-rcg-course-northern-rivers-3/
LOCATION:NSW
CATEGORIES:RSA RCG
END:VEVENT
BEGIN:VEVENT
DTSTART;TZID=Australia/Sydney:20190514T100000
DTEND;TZID=Australia/Sydney:20190514T160000
DTSTAMP:20260422T000854
CREATED:20190508T233902Z
LAST-MODIFIED:20190508T234033Z
UID:11417-1557828000-1557849600@novaskill.com.au
SUMMARY:1 Day Barista Skills - Central Coast
DESCRIPTION:Study Non Accredited Training Barista Skills with us at Novaskill Central Coast Training Rooms. Course runs from 10:00am – 4:00pm and is $150pp. Barista Training covers coffee grinding\, extracting\, preparing popular espresso coffees\, texturing milk\, service techniques and espresso coffee product knowledge. Photo ID is required. Contact us now for more details. *Details may be subject to change*
URL:https://novaskill.com.au/course-calendar/1-day-barista-skills-central-coast/
LOCATION:NSW
CATEGORIES:Barista
END:VEVENT
BEGIN:VEVENT
DTSTART;TZID=Australia/Sydney:20190515T093000
DTEND;TZID=Australia/Sydney:20190515T163000
DTSTAMP:20260422T000854
CREATED:20190508T030714Z
LAST-MODIFIED:20190508T030714Z
UID:11352-1557912600-1557937800@novaskill.com.au
SUMMARY:One Day RSA Course- Mid North Coast
DESCRIPTION:Study SITHFAB002 Provide Responsible Service of Alcohol\, commonly known as RSA with us at the Kempsey RSL. Course runs from 9:30am – 4:30pm. Photo ID is required and discounts are available if completing SITHGAM001 Provide Responsible Gambling Services\, commonly known as RCG also for a combined price of $295.00. Contact us now for details. \n*Details may subject to change*
URL:https://novaskill.com.au/course-calendar/one-day-rsa-course-mid-north-coast-4/
LOCATION:NSW
CATEGORIES:RSA RCG
END:VEVENT
BEGIN:VEVENT
DTSTART;TZID=Australia/Sydney:20190515T093000
DTEND;TZID=Australia/Sydney:20190515T163000
DTSTAMP:20260422T000854
CREATED:20190508T024506Z
LAST-MODIFIED:20190508T024506Z
UID:11346-1557912600-1557937800@novaskill.com.au
SUMMARY:One Day RSA Course - Mid North Coast
DESCRIPTION:Study SITHFAB002 Provide Responsible Service of Alcohol\, commonly known as RSA with us at The Coast Hotel Coffs Harbour. Course runs from 9:30am – 4:30pm. Photo ID is required and discounts are available if completing SITHGAM0014 Provide Responsible Gambling Services\, commonly known as RCG also for a combined price of $295.00. Contact us now for details. \n*Details may subject to change*
URL:https://novaskill.com.au/course-calendar/one-day-rsa-course-mid-north-coast/
LOCATION:NSW
CATEGORIES:RSA RCG
END:VEVENT
BEGIN:VEVENT
DTSTART;TZID=Australia/Sydney:20190516T093000
DTEND;TZID=Australia/Sydney:20190516T163000
DTSTAMP:20260422T000854
CREATED:20190508T034810Z
LAST-MODIFIED:20190508T034810Z
UID:11365-1557999000-1558024200@novaskill.com.au
SUMMARY:One Day RCG Course - Mid North Coast
DESCRIPTION:Study SITHGAM001 Provide Responsible Gambling Services\, commonly known as RCG with us at Kempsey RSL for $140.00pp. Course runs from 9:30am – 4:30pm. Photo ID  & USI Number is required and discounts are available if completing SITHFAB002 Provide Responsible Service of Alcohol\, commonly known as RSA also for a combing price of $295.00. Contact us now for more details. \n*Details may subject to change*
URL:https://novaskill.com.au/course-calendar/one-day-rcg-course-mid-north-coast-4/
LOCATION:NSW
CATEGORIES:RSA RCG
END:VEVENT
BEGIN:VEVENT
DTSTART;TZID=Australia/Sydney:20190516T093000
DTEND;TZID=Australia/Sydney:20190516T163000
DTSTAMP:20260422T000854
CREATED:20190508T033218Z
LAST-MODIFIED:20190508T033218Z
UID:11359-1557999000-1558024200@novaskill.com.au
SUMMARY:One Day RCG Course -  Mid North Coast
DESCRIPTION:Study SITHGAM001 Provide Responsible Gambling Services\, commonly known as RCG with us at The Coast Hotel\, Coffs Harbour for $140.00pp. Course runs from 9:30am – 4:30pm. Photo ID  & USI Number is required and discounts are available if completing SITHFAB002 Provide Responsible Service of Alcohol\, commonly known as RSA also for a combing price of $295.00. Contact us now for more details. \n*Details may subject to change*
URL:https://novaskill.com.au/course-calendar/one-day-rcg-course-mid-north-coast/
LOCATION:NSW
CATEGORIES:RSA RCG
END:VEVENT
BEGIN:VEVENT
DTSTART;TZID=Australia/Sydney:20190523T090000
DTEND;TZID=Australia/Sydney:20190523T160000
DTSTAMP:20260422T000854
CREATED:20190328T235208Z
LAST-MODIFIED:20190328T235208Z
UID:11206-1558602000-1558627200@novaskill.com.au
SUMMARY:1 Day RSA Course - Northern Rivers
DESCRIPTION:Study SITHFAB002 Provide Responsible Service of Alcohol\, commonly known as RSA with us at East Lismore Bowling Club . Course runs from 9:00am – 4:00pm for $180.00pp. Photo ID is required and discounts are available if completing SITHGAM0014 Provide Responsible Gambling Services\, commonly known as RCG also for a combing price of $290.00pp. Participant must be 18 years and over. Contact us now for details. \n*Details may be subject to change*
URL:https://novaskill.com.au/course-calendar/1-day-rsa-course-northern-rivers-4/
LOCATION:East Lismore Bowling Club\, 76 Nielson St\, East Lismore\, NSW\, 2480\, Australia
CATEGORIES:RSA RCG
END:VEVENT
BEGIN:VEVENT
DTSTART;TZID=Australia/Sydney:20190523T093000
DTEND;TZID=Australia/Sydney:20190523T163000
DTSTAMP:20260422T000854
CREATED:20190508T041758Z
LAST-MODIFIED:20190508T041758Z
UID:11378-1558603800-1558629000@novaskill.com.au
SUMMARY:One Day Food Safety Supervisor Training - Mid North Coast
DESCRIPTION:Study SITXFSA001 Use hygienic practices for food safety & SITXFSA002 Participate in safe food handling practices\, commonly known as Food Safety Supervisor with us at The Coast Hotel\, Coffs Harbour. The Observation and Assessment Day runs from 9:30-4:30 and is $199pp. Refresher Course is available for students that have completed the Food Safety Supervisor Training  for $95pp. Photo ID and USI Number is required. Contact us now for more details and to book in your time for observation.
URL:https://novaskill.com.au/course-calendar/one-day-food-safety-supervisor-training-mid-north-coast/
LOCATION:NSW
CATEGORIES:Food Safety
END:VEVENT
BEGIN:VEVENT
DTSTART;TZID=Australia/Sydney:20190523T093000
DTEND;TZID=Australia/Sydney:20190523T163000
DTSTAMP:20260422T000854
CREATED:20190508T040308Z
LAST-MODIFIED:20190508T040438Z
UID:11372-1558603800-1558629000@novaskill.com.au
SUMMARY:One Day Safe Food Handling Course - Mid North Coast
DESCRIPTION:Study SITXFSA001 Use hygienic practices for food safety \, commonly known as Safe Food Handling with us at The Coast Hotel\, Coffs Harbour. The Observation and Assessment Day runs from 9:30am – 4:30pm and is $125.00pp. Photo ID & USI Number is required. Contact us now for more details and to book in your time for observation. \n*Details may be subject to change*
URL:https://novaskill.com.au/course-calendar/one-day-safe-food-handling-course-mid-north-coast/
LOCATION:NSW
CATEGORIES:Food Safety
END:VEVENT
BEGIN:VEVENT
DTSTART;TZID=Australia/Sydney:20190524T090000
DTEND;TZID=Australia/Sydney:20190524T160000
DTSTAMP:20260422T000854
CREATED:20190329T003113Z
LAST-MODIFIED:20190329T003113Z
UID:11221-1558688400-1558713600@novaskill.com.au
SUMMARY:1 Day RCG Course - Northern Rivers
DESCRIPTION:Study SITHGAM001 Provide Responsible Gambling Services\, commonly known as RCG with us at East Lismore Bowling Club 9:00am – 4:00pm for $140.00pp. Two forms of Photo ID are required and discounts are available if completing SITHFAB001 Provide Responsible Service of Alcohol\, commonly known as RSA also for a combining price of $290.00pp. Participant must be 18 years and over. Contact us now for more details. \n*Details may be subject to change*
URL:https://novaskill.com.au/course-calendar/1-day-rcg-course-northern-rivers-6/
LOCATION:East Lismore Bowling Club\, 76 Nielson St\, East Lismore\, NSW\, 2480\, Australia
CATEGORIES:RSA RCG
END:VEVENT
BEGIN:VEVENT
DTSTART;TZID=Australia/Sydney:20190527T090000
DTEND;TZID=Australia/Sydney:20190527T160000
DTSTAMP:20260422T000854
CREATED:20190509T002219Z
LAST-MODIFIED:20190509T002252Z
UID:11422-1558947600-1558972800@novaskill.com.au
SUMMARY:1 Day RSA Course - Central Coast
DESCRIPTION:Study SITHFAB002 Provide Responsible Service of Alcohol\, commonly known as RSA with us at The Entrance Leagues Club . Course runs from 9:00am – 4:00pm. Photo ID is required and discounts are available if completing SITHGAM001 Provide Responsible Gambling Services\, commonly known as RCG also for a combining price of $290pp. Contact us now for details. Must provide photo ID and USI.  *Details may be subject to change*
URL:https://novaskill.com.au/course-calendar/1-day-rsa-course-central-coast-2/
LOCATION:NSW
CATEGORIES:RSA RCG
END:VEVENT
BEGIN:VEVENT
DTSTART;TZID=Australia/Sydney:20190528T090000
DTEND;TZID=Australia/Sydney:20190528T160000
DTSTAMP:20260422T000854
CREATED:20190509T002656Z
LAST-MODIFIED:20190509T002656Z
UID:11425-1559034000-1559059200@novaskill.com.au
SUMMARY:1 Day RCG Course - Central Coast
DESCRIPTION:Study SITHGAM001 Provide Responsible Gambling Services\, commonly known as RCG with us at The Entrance Leagues Club. The course runs 9:00am-4:00pm. USI Number and Photo ID is required and discounts are available if completing SITHFAB002 Provide Responsible Service of Alcohol\, commonly known as RSA for a combining price of $290.00pp. Contact us now for more details.*Details may be subject to change*
URL:https://novaskill.com.au/course-calendar/1-day-rcg-course-central-coast-2/
LOCATION:NSW
CATEGORIES:RSA RCG
END:VEVENT
BEGIN:VEVENT
DTSTART;TZID=Australia/Sydney:20190531T080000
DTEND;TZID=Australia/Sydney:20190531T170000
DTSTAMP:20260422T000854
CREATED:20190509T003033Z
LAST-MODIFIED:20190509T003058Z
UID:11427-1559289600-1559322000@novaskill.com.au
SUMMARY:Food Safety Supervisor - Self Paced
DESCRIPTION:Study SITXFSA001 Use hygienic practices for food safety & SITXFSA002 Participate in safe food handling practices\, commonly known as Food Safety Supervisor with us Self Paced. The course takes up to 6 months to complete and is $295.00pp.  Participant must be working in an environment that has access to hand washing basins. *Details may be subject to change*
URL:https://novaskill.com.au/course-calendar/11427/
LOCATION:NSW
CATEGORIES:Food Safety
END:VEVENT
END:VCALENDAR