BEGIN:VCALENDAR
VERSION:2.0
PRODID:-//Novaskill - ECPv6.0.11//NONSGML v1.0//EN
CALSCALE:GREGORIAN
METHOD:PUBLISH
X-ORIGINAL-URL:https://novaskill.com.au
X-WR-CALDESC:Events for Novaskill
REFRESH-INTERVAL;VALUE=DURATION:PT1H
X-Robots-Tag:noindex
X-PUBLISHED-TTL:PT1H
BEGIN:VTIMEZONE
TZID:Australia/Sydney
BEGIN:STANDARD
TZOFFSETFROM:+1100
TZOFFSETTO:+1000
TZNAME:AEST
DTSTART:20210403T160000
END:STANDARD
BEGIN:DAYLIGHT
TZOFFSETFROM:+1000
TZOFFSETTO:+1100
TZNAME:AEDT
DTSTART:20211002T160000
END:DAYLIGHT
END:VTIMEZONE
BEGIN:VEVENT
DTSTART;TZID=Australia/Sydney:20210621T090000
DTEND;TZID=Australia/Sydney:20210621T170000
DTSTAMP:20260422T193316
CREATED:20210513T053658Z
LAST-MODIFIED:20210513T053658Z
UID:17750-1624266000-1624294800@novaskill.com.au
SUMMARY:Construction Pre-Apprenticeship - Newcastle
DESCRIPTION:Applicants who have completed a pre-apprenticeship course are often favored by future employers\, meaning you’re more likely to gain a job faster! If you are 16 – 24 years old\, have left school and are keen on a trade-based career\, this is for you! \nA pre-apprenticeship is a great way to experience what it is like to work in an industry in a ‘try before you buy’ scenario. If you decide it’s for you\, then you are already on your way to studying for your full qualification. This pre-apprenticeship covers the following introductory units; \nCPCCCA2002B Use carpentry tools and equipment\nCPCCCA2011A Handle carpentry materials\nCPCCJN2001A Assemble components\nCPCCWHS2001 Apply WHS requirements\, policies and procedures in the construction industry \nAsk us for details.
URL:https://novaskill.com.au/course-calendar/construction-pre-app-new/
LOCATION:Novaskill Newcastle Office\, 148 Lambton Road\, Broadmeadow\, NSW\, 2292\, Australia
CATEGORIES:Construction
ATTACH;FMTTYPE=image/jpeg:https://novaskill.com.au/wp-content/uploads/2021/05/AdobeStock_241363193-scaled.jpeg
ORGANIZER;CN="Novaskill%20Newcastle":MAILTO:newcastle@novaskill.com.au
END:VEVENT
END:VCALENDAR