BEGIN:VCALENDAR
VERSION:2.0
PRODID:-//Novaskill - ECPv6.0.11//NONSGML v1.0//EN
CALSCALE:GREGORIAN
METHOD:PUBLISH
X-WR-CALNAME:Novaskill
X-ORIGINAL-URL:https://novaskill.com.au
X-WR-CALDESC:Events for Novaskill
REFRESH-INTERVAL;VALUE=DURATION:PT1H
X-Robots-Tag:noindex
X-PUBLISHED-TTL:PT1H
BEGIN:VTIMEZONE
TZID:Australia/Sydney
BEGIN:STANDARD
TZOFFSETFROM:+1100
TZOFFSETTO:+1000
TZNAME:AEST
DTSTART:20220402T160000
END:STANDARD
BEGIN:DAYLIGHT
TZOFFSETFROM:+1000
TZOFFSETTO:+1100
TZNAME:AEDT
DTSTART:20221001T160000
END:DAYLIGHT
END:VTIMEZONE
BEGIN:VEVENT
DTSTART;TZID=Australia/Sydney:20220510T090000
DTEND;TZID=Australia/Sydney:20220510T160000
DTSTAMP:20260423T053205
CREATED:20220503T045702Z
LAST-MODIFIED:20220503T050405Z
UID:19999-1652173200-1652198400@novaskill.com.au
SUMMARY:Certificate III in Individual Support
DESCRIPTION:Join Australia’s largest growing industry and begin studying CHC33015 Certificate III in Individual Support with us in a classroom based setting via our Northern Rivers office. Study part-time 2 days a week\, to allow you to work while you learn. Price is determined upon eligibility requirements and concessions may be available. For more details\, please contact our team. \n*This course is likely to contain practical and/or observational learning components that may need to be completed face-to-face. Please speak to us for details.
URL:https://novaskill.com.au/course-calendar/certificate-iii-in-individual-support-6/
LOCATION:Novaskill Northern Rivers Office\, 58 Tamar Street\,\, Ballina\, NSW\, 2478\, Australia
CATEGORIES:Individual Support,Community Services
ATTACH;FMTTYPE=image/jpeg:https://novaskill.com.au/wp-content/uploads/2019/05/shutterstock_735361786.jpg
ORGANIZER;CN="Novaskill%20Northern%20Rivers":MAILTO:northernrivers@novaskill.com.au
END:VEVENT
BEGIN:VEVENT
DTSTART;TZID=Australia/Sydney:20220516T090000
DTEND;TZID=Australia/Sydney:20220516T160000
DTSTAMP:20260423T053205
CREATED:20220503T062449Z
LAST-MODIFIED:20220503T062449Z
UID:20009-1652691600-1652716800@novaskill.com.au
SUMMARY:Certificate III in Individual Support
DESCRIPTION:Join Australia’s largest growing industry and begin studying CHC33015 Certificate III in Individual Support with us in a classroom based setting via our Central Coast office. Study part-time 2 days a week\, to allow you to work while you learn. Price is determined upon eligibility requirements and concessions may be available. For more details\, please contact our team. \n*This course is likely to contain practical and/or observational learning components that may need to be completed face-to-face. Please speak to us for details.
URL:https://novaskill.com.au/course-calendar/certificate-iii-in-individual-support-15/
LOCATION:Novaskill Central Coast Office\, Suite 15\, 1 Reliance Drive\,\, Tuggerah\, NSW\, 2259\, Australia
CATEGORIES:Individual Support,Community Services
ATTACH;FMTTYPE=image/jpeg:https://novaskill.com.au/wp-content/uploads/2018/01/shutterstock_371490046.jpg
ORGANIZER;CN="Novaskill%20Central%20Coast":MAILTO:centralcoast@novaskill.com.au
END:VEVENT
BEGIN:VEVENT
DTSTART;TZID=Australia/Sydney:20220516T090000
DTEND;TZID=Australia/Sydney:20220516T160000
DTSTAMP:20260423T053205
CREATED:20220503T061529Z
LAST-MODIFIED:20220503T061529Z
UID:20003-1652691600-1652716800@novaskill.com.au
SUMMARY:Certificate III in Individual Support
DESCRIPTION:Join Australia’s largest growing industry and begin studying CHC33015 Certificate III in Individual Support with us in a classroom based setting via our Nambucca Valley office. Study part-time 2 days a week\, to allow you to work while you learn. Price is determined upon eligibility requirements and concessions may be available. For more details\, please contact our team. \n*This course is likely to contain practical and/or observational learning components that may need to be completed face-to-face. Please speak to us for details.
URL:https://novaskill.com.au/course-calendar/certificate-iii-in-individual-support-12/
LOCATION:Novaskill Nambucca Valley Office\, 18 Bowra Street\,\, Nambucca Heads\, NSW\, 2448\, Australia
CATEGORIES:Individual Support,Community Services
ATTACH;FMTTYPE=image/jpeg:https://novaskill.com.au/wp-content/uploads/2019/05/shutterstock_735361786.jpg
ORGANIZER;CN="Novaskill%20Nambucca%20Valley":MAILTO:nambuccavalley@novaskill.com.au
END:VEVENT
BEGIN:VEVENT
DTSTART;TZID=Australia/Sydney:20220516T090000
DTEND;TZID=Australia/Sydney:20220516T160000
DTSTAMP:20260423T053205
CREATED:20220503T061312Z
LAST-MODIFIED:20220503T061312Z
UID:20001-1652691600-1652716800@novaskill.com.au
SUMMARY:Certificate III in Individual Support
DESCRIPTION:Join Australia’s largest growing industry and begin studying CHC33015 Certificate III in Individual Support with us in a classroom based setting via our Coffs Coast office. Study part-time 2 days a week\, to allow you to work while you learn. Price is determined upon eligibility requirements and concessions may be available. For more details\, please contact our team. \n*This course is likely to contain practical and/or observational learning components that may need to be completed face-to-face. Please speak to us for details.
URL:https://novaskill.com.au/course-calendar/certificate-iii-in-individual-support-11/
LOCATION:Novaskill Coffs Coast Office\, Suite 101-102\, 24 Moonee Street\,\, Coffs Harbour\, NSW\, 2450\, Australia
CATEGORIES:Individual Support,Community Services
ATTACH;FMTTYPE=image/jpeg:https://novaskill.com.au/wp-content/uploads/2018/01/shutterstock_371490046.jpg
ORGANIZER;CN="Novaskill%20Coffs%20Coast":MAILTO:coffscoast@novaskill.com.au
END:VEVENT
BEGIN:VEVENT
DTSTART;TZID=Australia/Sydney:20220519T090000
DTEND;TZID=Australia/Sydney:20220519T160000
DTSTAMP:20260423T053205
CREATED:20220503T062014Z
LAST-MODIFIED:20220503T062014Z
UID:20007-1652950800-1652976000@novaskill.com.au
SUMMARY:Certificate III in Individual Support
DESCRIPTION:Join Australia’s largest growing industry and begin studying CHC33015 Certificate III in Individual Support with us in a classroom based setting via our Hunter Valley office. Study part-time 2 days a week\, to allow you to work while you learn. Price is determined upon eligibility requirements and concessions may be available. For more details\, please contact our team. \n*This course is likely to contain practical and/or observational learning components that may need to be completed face-to-face. Please speak to us for details.
URL:https://novaskill.com.au/course-calendar/certificate-iii-in-individual-support-14/
LOCATION:Private: Novaskill Hunter Valley Office\, 1/162 John Street\,\, Singleton\, NSW\, 2330\, Australia
CATEGORIES:Individual Support,Community Services
ATTACH;FMTTYPE=image/jpeg:https://novaskill.com.au/wp-content/uploads/2019/05/shutterstock_735361786.jpg
ORGANIZER;CN="Novaskill%20Hunter%20Valley":MAILTO:huntervalley@novaskill.com.au
END:VEVENT
BEGIN:VEVENT
DTSTART;TZID=Australia/Sydney:20220519T090000
DTEND;TZID=Australia/Sydney:20220519T160000
DTSTAMP:20260423T053205
CREATED:20220503T061753Z
LAST-MODIFIED:20220503T061753Z
UID:20005-1652950800-1652976000@novaskill.com.au
SUMMARY:Certificate III in Individual Support
DESCRIPTION:Join Australia’s largest growing industry and begin studying CHC33015 Certificate III in Individual Support with us in a classroom based setting via our New England office. Study part-time 2 days a week\, to allow you to work while you learn. Price is determined upon eligibility requirements and concessions may be available. For more details\, please contact our team. \n*This course is likely to contain practical and/or observational learning components that may need to be completed face-to-face. Please speak to us for details.
URL:https://novaskill.com.au/course-calendar/certificate-iii-in-individual-support-13/
LOCATION:Novaskill New England\, Suite 1\, 137 Marius Street\, Tamworth\, NSW\, 2340\, Australia
CATEGORIES:Individual Support,Community Services
ATTACH;FMTTYPE=image/jpeg:https://novaskill.com.au/wp-content/uploads/2018/01/shutterstock_371490046.jpg
ORGANIZER;CN="Novaskill%20New%20England":MAILTO:kellyc@novaskill.com.au
END:VEVENT
BEGIN:VEVENT
DTSTART;TZID=Australia/Sydney:20220519T090000
DTEND;TZID=Australia/Sydney:20220519T160000
DTSTAMP:20260423T053205
CREATED:20220425T220356Z
LAST-MODIFIED:20220425T220356Z
UID:19956-1652950800-1652976000@novaskill.com.au
SUMMARY:Certificate III in Individual Support
DESCRIPTION:Join Australia’s largest growing industry and begin studying CHC33015 Certificate III in Individual Support with us in a classroom based setting via our Newcastle office. Study part-time 2 days a week\, to allow you to work while you learn. Price is determined upon eligibility requirements and concessions may be available. For more details\, please contact our team. \n*This course is likely to contain practical and/or observational learning components that may need to be completed face-to-face. Please speak to us for details.
URL:https://novaskill.com.au/course-calendar/certificate-iii-in-individual-support-3/
LOCATION:Novaskill Newcastle Office\, 148 Lambton Road\, Broadmeadow\, NSW\, 2292\, Australia
CATEGORIES:Individual Support
ATTACH;FMTTYPE=image/jpeg:https://novaskill.com.au/wp-content/uploads/2019/04/shutterstock_697079050.jpg
ORGANIZER;CN="Novaskill%20Newcastle":MAILTO:newcastle@novaskill.com.au
END:VEVENT
END:VCALENDAR