BEGIN:VCALENDAR
VERSION:2.0
PRODID:-//Novaskill - ECPv6.0.11//NONSGML v1.0//EN
CALSCALE:GREGORIAN
METHOD:PUBLISH
X-ORIGINAL-URL:https://novaskill.com.au
X-WR-CALDESC:Events for Novaskill
REFRESH-INTERVAL;VALUE=DURATION:PT1H
X-Robots-Tag:noindex
X-PUBLISHED-TTL:PT1H
BEGIN:VTIMEZONE
TZID:Australia/Sydney
BEGIN:STANDARD
TZOFFSETFROM:+1100
TZOFFSETTO:+1000
TZNAME:AEST
DTSTART:20200404T160000
END:STANDARD
BEGIN:DAYLIGHT
TZOFFSETFROM:+1000
TZOFFSETTO:+1100
TZNAME:AEDT
DTSTART:20201003T160000
END:DAYLIGHT
END:VTIMEZONE
BEGIN:VEVENT
DTSTART;TZID=Australia/Sydney:20200616T090000
DTEND;TZID=Australia/Sydney:20200616T160000
DTSTAMP:20260422T005134
CREATED:20200625T050150Z
LAST-MODIFIED:20200625T050150Z
UID:14231-1592298000-1592323200@novaskill.com.au
SUMMARY:Certificate III in Individual Support - Gold Coast
DESCRIPTION:Join Australia’s largest growing industry and begin studying CHC33015 Certificate III in Individual Support (specialising in disability support) with us at our South East Queensland Branch. Classes run 2 days per week for 22 weeks (plus mandatory work placement). Price is determined upon eligibility requirements and concessions may be available. For more details\, please contact our team.
URL:https://novaskill.com.au/course-calendar/certificate-iii-in-individual-support-gold-coast/
LOCATION:NSW
CATEGORIES:Aged Care
ATTACH;FMTTYPE=image/jpeg:https://novaskill.com.au/wp-content/uploads/2020/04/Dear-Future-campaign2.jpg
END:VEVENT
END:VCALENDAR