BEGIN:VCALENDAR
VERSION:2.0
PRODID:-//Novaskill - ECPv6.0.11//NONSGML v1.0//EN
CALSCALE:GREGORIAN
METHOD:PUBLISH
X-WR-CALNAME:Novaskill
X-ORIGINAL-URL:https://novaskill.com.au
X-WR-CALDESC:Events for Novaskill
REFRESH-INTERVAL;VALUE=DURATION:PT1H
X-Robots-Tag:noindex
X-PUBLISHED-TTL:PT1H
BEGIN:VTIMEZONE
TZID:Australia/Sydney
BEGIN:STANDARD
TZOFFSETFROM:+1100
TZOFFSETTO:+1000
TZNAME:AEST
DTSTART:20200404T160000
END:STANDARD
BEGIN:DAYLIGHT
TZOFFSETFROM:+1000
TZOFFSETTO:+1100
TZNAME:AEDT
DTSTART:20201003T160000
END:DAYLIGHT
END:VTIMEZONE
BEGIN:VEVENT
DTSTART;TZID=Australia/Sydney:20200115T150000
DTEND;TZID=Australia/Sydney:20200115T163000
DTSTAMP:20260424T043136
CREATED:20191126T231146Z
LAST-MODIFIED:20200224T044142Z
UID:12183-1579100400-1579105800@novaskill.com.au
SUMMARY:CHC33015 Certificate III Individual Support  - Part Qualification - Northern Rivers
DESCRIPTION:Partnering with St Carthage’s Community Care This part qualification provides the opportunity for a rewarding career in community services with us at Novaskill Northern Rivers – 58 Tamar Street\, Ballina NSW 2478 \n\nInformation session Wednesday 15th January 2020 – St Carthage’s Community Care – 3 Jubilee Ave\, Goonellabah NSW 2480 at 3:00pm\nCommencing: Monday 3rd February 2020 – Monday – Friday for 2 weeks. 9:00am -3:00pm
URL:https://novaskill.com.au/course-calendar/chc33015-nrjan20/
LOCATION:NSW
CATEGORIES:Community Services
ORGANIZER;CN="Novaskill%20Northern%20Rivers":MAILTO:northernrivers@novaskill.com.au
END:VEVENT
END:VCALENDAR