BEGIN:VCALENDAR
VERSION:2.0
PRODID:-//Novaskill - ECPv6.0.11//NONSGML v1.0//EN
CALSCALE:GREGORIAN
METHOD:PUBLISH
X-WR-CALNAME:Novaskill
X-ORIGINAL-URL:https://novaskill.com.au
X-WR-CALDESC:Events for Novaskill
REFRESH-INTERVAL;VALUE=DURATION:PT1H
X-Robots-Tag:noindex
X-PUBLISHED-TTL:PT1H
BEGIN:VTIMEZONE
TZID:Australia/Sydney
BEGIN:STANDARD
TZOFFSETFROM:+1100
TZOFFSETTO:+1000
TZNAME:AEST
DTSTART:20180331T160000
END:STANDARD
BEGIN:DAYLIGHT
TZOFFSETFROM:+1000
TZOFFSETTO:+1100
TZNAME:AEDT
DTSTART:20181006T160000
END:DAYLIGHT
END:VTIMEZONE
BEGIN:VEVENT
DTSTART;TZID=Australia/Sydney:20180328T090000
DTEND;TZID=Australia/Sydney:20180328T170000
DTSTAMP:20260423T171929
CREATED:20180319T225021Z
LAST-MODIFIED:20180320T015444Z
UID:9809-1522227600-1522256400@novaskill.com.au
SUMMARY:Certificate III in Individual Support (Ageing) - Maitland
DESCRIPTION:Study CHC33015 Certificate III in Individual Support (Ageing) with us at Mission Providence\, Maitland. Course runs from 9:00am – 5:00pm on Wednesdays\, Thursdays and Fridays weekly until 28/918. Price is Determined on eligibility requirements and concessions may be available. For more details\, please enquire now!
URL:https://novaskill.com.au/course-calendar/certificate-iii-in-individual-support-ageing-maitland/
LOCATION:NSW
CATEGORIES:Aged Care
END:VEVENT
END:VCALENDAR