BEGIN:VCALENDAR
VERSION:2.0
PRODID:-//Novaskill - ECPv6.0.11//NONSGML v1.0//EN
CALSCALE:GREGORIAN
METHOD:PUBLISH
X-ORIGINAL-URL:https://novaskill.com.au
X-WR-CALDESC:Events for Novaskill
REFRESH-INTERVAL;VALUE=DURATION:PT1H
X-Robots-Tag:noindex
X-PUBLISHED-TTL:PT1H
BEGIN:VTIMEZONE
TZID:Australia/Sydney
BEGIN:STANDARD
TZOFFSETFROM:+1100
TZOFFSETTO:+1000
TZNAME:AEST
DTSTART:20210403T160000
END:STANDARD
BEGIN:DAYLIGHT
TZOFFSETFROM:+1000
TZOFFSETTO:+1100
TZNAME:AEDT
DTSTART:20211002T160000
END:DAYLIGHT
END:VTIMEZONE
BEGIN:VEVENT
DTSTART;TZID=Australia/Sydney:20210721T090000
DTEND;TZID=Australia/Sydney:20210721T153000
DTSTAMP:20260423T083810
CREATED:20210701T061841Z
LAST-MODIFIED:20210701T061841Z
UID:18372-1626858000-1626881400@novaskill.com.au
SUMMARY:Certificate III in Individual Support
DESCRIPTION:Join Australia’s largest growing industry and begin studying CHC33015 Certificate III in Individual Support with us in our Mid North Coast-based classroom. Study part-time to allow you to work while you learn. Price is determined upon eligibility requirements and concessions may be available. For more details\, please contact our team. \n*This course is likely to contain practical and/or observational learning components that may need to be completed face-to-face. Please speak to us for details.
URL:https://novaskill.com.au/course-calendar/certificate-iii-in-individual-support-9/
LOCATION:Novaskill Mid North Coast Office\, Shop 1/136 William Street\, Quayside Building\, Port Macquarie\, NSW\, 2444\, Australia
CATEGORIES:Individual Support
ATTACH;FMTTYPE=image/jpeg:https://novaskill.com.au/wp-content/uploads/2019/05/shutterstock_735361786.jpg
ORGANIZER;CN="Novaskill%20Mid%20North%20Coast":MAILTO:midnorthcoast@novaskill.com.au
END:VEVENT
BEGIN:VEVENT
DTSTART;TZID=Australia/Sydney:20210722T090000
DTEND;TZID=Australia/Sydney:20210722T160000
DTSTAMP:20260423T083810
CREATED:20210713T043509Z
LAST-MODIFIED:20210713T043509Z
UID:18513-1626944400-1626969600@novaskill.com.au
SUMMARY:Certificate III in Individual Support (Ageing)
DESCRIPTION:Join Australia’s largest growing industry and begin studying CHC33015 Certificate III in Individual Support with us in our New England-based classroom. Study part-time to allow you to work while you learn. Price is determined upon eligibility requirements and concessions may be available. For more details\, please contact our team. \n*This course is likely to contain practical and/or observational learning components that may need to be completed face-to-face. Please speak to us for details.
URL:https://novaskill.com.au/course-calendar/certificate-iii-in-individual-support-ageing/
LOCATION:Novaskill New England\, Suite 1\, 137 Marius Street\, Tamworth\, NSW\, 2340\, Australia
CATEGORIES:Individual Support
ATTACH;FMTTYPE=image/jpeg:https://novaskill.com.au/wp-content/uploads/2019/04/shutterstock_697079050.jpg
ORGANIZER;CN="Novaskill%20New%20England":MAILTO:kellyc@novaskill.com.au
END:VEVENT
BEGIN:VEVENT
DTSTART;TZID=Australia/Sydney:20210722T090000
DTEND;TZID=Australia/Sydney:20210722T160000
DTSTAMP:20260423T083810
CREATED:20210616T032705Z
LAST-MODIFIED:20210616T032705Z
UID:18265-1626944400-1626969600@novaskill.com.au
SUMMARY:Certificate III in Individual Support
DESCRIPTION:Join Australia’s largest growing industry and begin studying CHC33015 Certificate III in Individual Support with us in our Northern Rivers-based classroom. Study part-time to allow you to work while you learn. Price is determined upon eligibility requirements and concessions may be available. For more details\, please contact our team. \n*This course is likely to contain practical and/or observational learning components that may need to be completed face-to-face. Please speak to us for details.
URL:https://novaskill.com.au/course-calendar/certificate-iii-in-individual-support-8/
LOCATION:Novaskill Northern Rivers Office\, 58 Tamar Street\,\, Ballina\, NSW\, 2478\, Australia
CATEGORIES:Individual Support
ATTACH;FMTTYPE=image/jpeg:https://novaskill.com.au/wp-content/uploads/2019/09/courses-agedcare.jpg
ORGANIZER;CN="Novaskill%20Northern%20Rivers":MAILTO:northernrivers@novaskill.com.au
END:VEVENT
END:VCALENDAR