BEGIN:VCALENDAR
VERSION:2.0
PRODID:-//Novaskill - ECPv6.0.11//NONSGML v1.0//EN
CALSCALE:GREGORIAN
METHOD:PUBLISH
X-ORIGINAL-URL:https://novaskill.com.au
X-WR-CALDESC:Events for Novaskill
REFRESH-INTERVAL;VALUE=DURATION:PT1H
X-Robots-Tag:noindex
X-PUBLISHED-TTL:PT1H
BEGIN:VTIMEZONE
TZID:Australia/Sydney
BEGIN:STANDARD
TZOFFSETFROM:+1100
TZOFFSETTO:+1000
TZNAME:AEST
DTSTART:20210403T160000
END:STANDARD
BEGIN:DAYLIGHT
TZOFFSETFROM:+1000
TZOFFSETTO:+1100
TZNAME:AEDT
DTSTART:20211002T160000
END:DAYLIGHT
END:VTIMEZONE
BEGIN:VEVENT
DTSTART;TZID=Australia/Sydney:20210604T090000
DTEND;TZID=Australia/Sydney:20210604T160000
DTSTAMP:20260422T171249
CREATED:20210526T224020Z
LAST-MODIFIED:20210526T225010Z
UID:17870-1622797200-1622822400@novaskill.com.au
SUMMARY:Certificate III in Individual Support
DESCRIPTION:Join Australia’s largest growing industry and begin studying CHC33015 Certificate III in Individual Support with the support of our experienced Newcastle-based trainers. Built for flexibility\, you can choose to study via correspondence or online. Price is determined upon eligibility requirements and concessions may be available. For more details\, please contact our team. \n*This course is likely to contain practical and/or observational learning components that may need to be completed face-to-face. Please speak to us for details.
URL:https://novaskill.com.au/course-calendar/certificate-iii-in-individual-support-4/
LOCATION:Self-paced (mixed mode)
CATEGORIES:Individual Support,Aged Care,Community Services
ATTACH;FMTTYPE=image/jpeg:https://novaskill.com.au/wp-content/uploads/2019/05/shutterstock_735361786.jpg
ORGANIZER;CN="Novaskill%20Newcastle":MAILTO:newcastle@novaskill.com.au
END:VEVENT
BEGIN:VEVENT
DTSTART;TZID=Australia/Sydney:20210607T090000
DTEND;TZID=Australia/Sydney:20210607T160000
DTSTAMP:20260422T171249
CREATED:20210604T044751Z
LAST-MODIFIED:20210604T044751Z
UID:18059-1623056400-1623081600@novaskill.com.au
SUMMARY:Certificate III in Individual Support
DESCRIPTION:Join Australia’s largest growing industry and begin studying CHC33015 Certificate III in Individual Support with the support of our experienced Northern Rivers-based trainers. Built for flexibility\, you can choose to study via correspondence or online. Price is determined upon eligibility requirements and concessions may be available. For more details\, please contact our team. \n*This course is likely to contain practical and/or observational learning components that may need to be completed face-to-face. Please speak to us for details.
URL:https://novaskill.com.au/course-calendar/certificate-iii-in-individual-support-5/
LOCATION:Novaskill Northern Rivers Office\, 58 Tamar Street\,\, Ballina\, NSW\, 2478\, Australia
CATEGORIES:Individual Support
ATTACH;FMTTYPE=image/jpeg:https://novaskill.com.au/wp-content/uploads/2019/05/shutterstock_735361786.jpg
ORGANIZER;CN="Novaskill%20Northern%20Rivers":MAILTO:northernrivers@novaskill.com.au
END:VEVENT
BEGIN:VEVENT
DTSTART;TZID=Australia/Sydney:20210609T090000
DTEND;TZID=Australia/Sydney:20210609T160000
DTSTAMP:20260422T171249
CREATED:20210604T055437Z
LAST-MODIFIED:20210604T055437Z
UID:18091-1623229200-1623254400@novaskill.com.au
SUMMARY:Certificate IV in Ageing Support
DESCRIPTION:Already work in aged care and want to move up the corporate ladder? This qualification is what you’re looking for! Enrol in CHC43015 Certificate IV in Ageing Support with the assistance of our Central Coast based team and start something new today! Study at your own pace via correspondence over 2 years. Discounts available for eligible students so please enquire now. Taking enrolments anytime!
URL:https://novaskill.com.au/course-calendar/certificate-iv-in-ageing-support/
LOCATION:Self-paced (mixed mode)
CATEGORIES:Ageing Support
ATTACH;FMTTYPE=image/jpeg:https://novaskill.com.au/wp-content/uploads/2019/09/courses-agedcare.jpg
ORGANIZER;CN="Novaskill%20Central%20Coast":MAILTO:centralcoast@novaskill.com.au
END:VEVENT
BEGIN:VEVENT
DTSTART;TZID=Australia/Sydney:20210624T080000
DTEND;TZID=Australia/Sydney:20210624T160000
DTSTAMP:20260422T171249
CREATED:20210525T045934Z
LAST-MODIFIED:20210525T050606Z
UID:17787-1624521600-1624550400@novaskill.com.au
SUMMARY:Certificate III in Individual Support (Ageing)
DESCRIPTION:Join Australia’s largest growing industry and begin studying CHC33015 Certificate III in Individual Support with us in our Central Coast-based classrooms. Study part-time to allow you greater flexibility and to work while you learn. Price is determined upon eligibility requirements and concessions may be available. Please note that this qualification is being delivered with a specialisation in ageing support.
URL:https://novaskill.com.au/course-calendar/certificate-iii-in-individual-support-ageing-central-coast/
LOCATION:Novaskill Central Coast Office\, Suite 15\, 1 Reliance Drive\,\, Tuggerah\, NSW\, 2259\, Australia
CATEGORIES:Individual Support,Ageing Support,Aged Care
ATTACH;FMTTYPE=image/jpeg:https://novaskill.com.au/wp-content/uploads/2019/05/shutterstock_735361786.jpg
ORGANIZER;CN="Novaskill%20Central%20Coast":MAILTO:centralcoast@novaskill.com.au
END:VEVENT
BEGIN:VEVENT
DTSTART;TZID=Australia/Sydney:20210628T090000
DTEND;TZID=Australia/Sydney:20210628T160000
DTSTAMP:20260422T171249
CREATED:20210607T012252Z
LAST-MODIFIED:20210607T012252Z
UID:18191-1624870800-1624896000@novaskill.com.au
SUMMARY:Certificate III in Individual Support
DESCRIPTION:Join Australia’s largest growing industry and begin studying CHC33015 Certificate III in Individual Support with the support of our experienced Hunter Valley-based trainers. Built for flexibility\, you can choose to study via correspondence or online. Price is determined upon eligibility requirements and concessions may be available. For more details\, please contact our team. \n*This course is likely to contain practical and/or observational learning components that may need to be completed face-to-face. Please speak to us for details.
URL:https://novaskill.com.au/course-calendar/certificate-iii-in-individual-support-7/
LOCATION:Self-paced (mixed mode)
CATEGORIES:Individual Support
ATTACH;FMTTYPE=image/jpeg:https://novaskill.com.au/wp-content/uploads/2019/09/courses-agedcare.jpg
ORGANIZER;CN="Novaskill%20Hunter%20Valley":MAILTO:huntervalley@novaskill.com.au
END:VEVENT
END:VCALENDAR