BEGIN:VCALENDAR
VERSION:2.0
PRODID:-//Novaskill - ECPv6.0.11//NONSGML v1.0//EN
CALSCALE:GREGORIAN
METHOD:PUBLISH
X-ORIGINAL-URL:https://novaskill.com.au
X-WR-CALDESC:Events for Novaskill
REFRESH-INTERVAL;VALUE=DURATION:PT1H
X-Robots-Tag:noindex
X-PUBLISHED-TTL:PT1H
BEGIN:VTIMEZONE
TZID:Australia/Sydney
BEGIN:STANDARD
TZOFFSETFROM:+1100
TZOFFSETTO:+1000
TZNAME:AEST
DTSTART:20170401T160000
END:STANDARD
BEGIN:DAYLIGHT
TZOFFSETFROM:+1000
TZOFFSETTO:+1100
TZNAME:AEDT
DTSTART:20170930T160000
END:DAYLIGHT
END:VTIMEZONE
BEGIN:VEVENT
DTSTART;TZID=Australia/Sydney:20171230T080000
DTEND;TZID=Australia/Sydney:20171230T110000
DTSTAMP:20260425T230829
CREATED:20171206T014809Z
LAST-MODIFIED:20171206T030254Z
UID:8344-1514620800-1514631600@novaskill.com.au
SUMMARY:Test Aged Care Event
DESCRIPTION:Kyogle Bowling Club. This is a test event in the Aged Care category\, linked to the Aged Care course.
URL:https://novaskill.com.au/course-calendar/test-aged-care-event/
LOCATION:NSW
CATEGORIES:Aged Care
END:VEVENT
END:VCALENDAR