BEGIN:VCALENDAR
VERSION:2.0
PRODID:-//Novaskill - ECPv6.0.11//NONSGML v1.0//EN
CALSCALE:GREGORIAN
METHOD:PUBLISH
X-WR-CALNAME:Novaskill
X-ORIGINAL-URL:https://novaskill.com.au
X-WR-CALDESC:Events for Novaskill
REFRESH-INTERVAL;VALUE=DURATION:PT1H
X-Robots-Tag:noindex
X-PUBLISHED-TTL:PT1H
BEGIN:VTIMEZONE
TZID:Australia/Sydney
BEGIN:STANDARD
TZOFFSETFROM:+1100
TZOFFSETTO:+1000
TZNAME:AEST
DTSTART:20220402T160000
END:STANDARD
BEGIN:DAYLIGHT
TZOFFSETFROM:+1000
TZOFFSETTO:+1100
TZNAME:AEDT
DTSTART:20221001T160000
END:DAYLIGHT
END:VTIMEZONE
BEGIN:VEVENT
DTSTART;TZID=Australia/Sydney:20220818T090000
DTEND;TZID=Australia/Sydney:20220818T160000
DTSTAMP:20260422T020045
CREATED:20220627T002152Z
LAST-MODIFIED:20220627T002236Z
UID:20354-1660813200-1660838400@novaskill.com.au
SUMMARY:Certificate II in Workplace Skills
DESCRIPTION:Get started\, get ahead\, and get qualified in business! If you are ready to kickstart a career in the business industry. BSB20120 Certificate II in Workplace Skills is the course for you! \nPrice is determined upon eligibility requirements and concessions may be available. For more details\, please contact our team.
URL:https://novaskill.com.au/course-calendar/certificate-ii-in-worplace-skills-new/
LOCATION:Novaskill Newcastle Office\, 148 Lambton Road\, Broadmeadow\, NSW\, 2292\, Australia
CATEGORIES:Business Services
ATTACH;FMTTYPE=image/jpeg:https://novaskill.com.au/wp-content/uploads/2020/05/shutterstock_380896681-scaled.jpg
ORGANIZER;CN="Novaskill%20Newcastle":MAILTO:newcastle@novaskill.com.au
END:VEVENT
END:VCALENDAR