BEGIN:VCALENDAR
VERSION:2.0
PRODID:-//Novaskill - ECPv6.0.11//NONSGML v1.0//EN
CALSCALE:GREGORIAN
METHOD:PUBLISH
X-ORIGINAL-URL:https://novaskill.com.au
X-WR-CALDESC:Events for Novaskill
REFRESH-INTERVAL;VALUE=DURATION:PT1H
X-Robots-Tag:noindex
X-PUBLISHED-TTL:PT1H
BEGIN:VTIMEZONE
TZID:Australia/Sydney
BEGIN:STANDARD
TZOFFSETFROM:+1100
TZOFFSETTO:+1000
TZNAME:AEST
DTSTART:20210403T160000
END:STANDARD
BEGIN:DAYLIGHT
TZOFFSETFROM:+1000
TZOFFSETTO:+1100
TZNAME:AEDT
DTSTART:20211002T160000
END:DAYLIGHT
END:VTIMEZONE
BEGIN:VEVENT
DTSTART;TZID=Australia/Sydney:20210920T090000
DTEND;TZID=Australia/Sydney:20210920T170000
DTSTAMP:20260420T005748
CREATED:20210910T041930Z
LAST-MODIFIED:20210910T041930Z
UID:18927-1632128400-1632157200@novaskill.com.au
SUMMARY:Skill up from Home - Workplace Innovation
DESCRIPTION:You can expect: \n\nPre-recorded info sessions to watch at a time that suits you.\nVirtual classroom tutorials to answer questions\, review content\, complete work.\nAdditional at home study (approx. 4-6 hours per week) to complete assignments.\n\nThis course runs for 3-4 weeks and starts early September! \nIt covers BSBINN301 – Promote Innovation in a Team Environment. \nEnrol now in online and fee free nationally recognised Customer Service Training! Contact our team now for more information.
URL:https://novaskill.com.au/course-calendar/skill-up-from-home-workplace-innovation/
LOCATION:Online\, Australia
CATEGORIES:Business Services
ATTACH;FMTTYPE=image/jpeg:https://novaskill.com.au/wp-content/uploads/2021/09/MicrosoftTeams-image.jpg
ORGANIZER;CN="Novaskill%20Central%20Coast":MAILTO:centralcoast@novaskill.com.au
END:VEVENT
END:VCALENDAR