BEGIN:VCALENDAR
VERSION:2.0
PRODID:-//Novaskill - ECPv6.0.11//NONSGML v1.0//EN
CALSCALE:GREGORIAN
METHOD:PUBLISH
X-ORIGINAL-URL:https://novaskill.com.au
X-WR-CALDESC:Events for Novaskill
REFRESH-INTERVAL;VALUE=DURATION:PT1H
X-Robots-Tag:noindex
X-PUBLISHED-TTL:PT1H
BEGIN:VTIMEZONE
TZID:Australia/Sydney
BEGIN:STANDARD
TZOFFSETFROM:+1100
TZOFFSETTO:+1000
TZNAME:AEST
DTSTART:20220402T160000
END:STANDARD
BEGIN:DAYLIGHT
TZOFFSETFROM:+1000
TZOFFSETTO:+1100
TZNAME:AEDT
DTSTART:20221001T160000
END:DAYLIGHT
END:VTIMEZONE
BEGIN:VEVENT
DTSTART;TZID=Australia/Sydney:20220519T090000
DTEND;TZID=Australia/Sydney:20220519T160000
DTSTAMP:20260423T094827
CREATED:20220503T032530Z
LAST-MODIFIED:20220503T032530Z
UID:19988-1652950800-1652976000@novaskill.com.au
SUMMARY:Certificate III in Business
DESCRIPTION:Thinking about a 9-5 world? Break into the world of business and gain a BSB30120 Certificate III in Business with your closest Novaskill branch. Built for flexibility\, you have the option to study via our online virtual class held every Thursday. \nPrice is determined upon eligibility requirements and concessions may be available. For more details\, please contact our team. \n*This course is likely to contain practical and/or observational learning components that may need to be completed face-to-face. Please speak to us for details.
URL:https://novaskill.com.au/course-calendar/certificate-iii-in-business-11/
LOCATION:Online\, Australia
CATEGORIES:Business Services
ATTACH;FMTTYPE=image/jpeg:https://novaskill.com.au/wp-content/uploads/2021/10/shutterstock_712414813-scaled.jpg
ORGANIZER;CN="Novaskill%20Central%20Coast":MAILTO:centralcoast@novaskill.com.au
END:VEVENT
END:VCALENDAR