BEGIN:VCALENDAR
VERSION:2.0
PRODID:-//Novaskill - ECPv6.0.11//NONSGML v1.0//EN
CALSCALE:GREGORIAN
METHOD:PUBLISH
X-ORIGINAL-URL:https://novaskill.com.au
X-WR-CALDESC:Events for Novaskill
REFRESH-INTERVAL;VALUE=DURATION:PT1H
X-Robots-Tag:noindex
X-PUBLISHED-TTL:PT1H
BEGIN:VTIMEZONE
TZID:Australia/Sydney
BEGIN:STANDARD
TZOFFSETFROM:+1100
TZOFFSETTO:+1000
TZNAME:AEST
DTSTART:20220402T160000
END:STANDARD
BEGIN:DAYLIGHT
TZOFFSETFROM:+1000
TZOFFSETTO:+1100
TZNAME:AEDT
DTSTART:20221001T160000
END:DAYLIGHT
END:VTIMEZONE
BEGIN:VEVENT
DTSTART;TZID=Australia/Sydney:20220207T090000
DTEND;TZID=Australia/Sydney:20220207T160000
DTSTAMP:20260422T170411
CREATED:20220201T231055Z
LAST-MODIFIED:20220201T231107Z
UID:19732-1644224400-1644249600@novaskill.com.au
SUMMARY:Certificate III in Business
DESCRIPTION:Get started\, get ahead\, and get qualified in business! If you are ready to kickstart a career in business\, BSB30120 Certificate III in Business is for you! Built for flexibility with the support of our experienced Nambucca Valley based trainers\, study at your own pace\, in your own time\, from the comfort of your own home as a mixed mode student or join a class for one-on-one training. \nPrice is determined upon eligibility requirements and concessions may be available. For more details\, please contact our team.
URL:https://novaskill.com.au/course-calendar/certificate-iii-in-business-10/
LOCATION:Novaskill Nambucca Valley Office\, 18 Bowra Street\,\, Nambucca Heads\, NSW\, 2448\, Australia
CATEGORIES:Business Services
ATTACH;FMTTYPE=image/jpeg:https://novaskill.com.au/wp-content/uploads/2020/06/shutterstock_1694214799-scaled.jpg
ORGANIZER;CN="Novaskill%20Nambucca%20Valley":MAILTO:nambuccavalley@novaskill.com.au
END:VEVENT
BEGIN:VEVENT
DTSTART;TZID=Australia/Sydney:20220207T090000
DTEND;TZID=Australia/Sydney:20220207T160000
DTSTAMP:20260422T170411
CREATED:20220201T230646Z
LAST-MODIFIED:20220201T230646Z
UID:19729-1644224400-1644249600@novaskill.com.au
SUMMARY:Certificate III in Business
DESCRIPTION:Get started\, get ahead\, and get qualified in business! If you are ready to kickstart a career in business\, BSB30120 Certificate III in Business is for you! Built for flexibility with the support of our experienced Coffs Coast based trainers\, study at your own pace\, in your own time\, from the comfort of your own home as a mixed mode student or join a class for one-on-one training. \nPrice is determined upon eligibility requirements and concessions may be available. For more details\, please contact our team.
URL:https://novaskill.com.au/course-calendar/certificate-iii-in-business-7/
LOCATION:Novaskill Coffs Coast Office\, Suite 101-102\, 24 Moonee Street\,\, Coffs Harbour\, NSW\, 2450\, Australia
CATEGORIES:Business Services
ATTACH;FMTTYPE=image/jpeg:https://novaskill.com.au/wp-content/uploads/2020/04/shutterstock_579721840-scaled.jpg
ORGANIZER;CN="Novaskill%20Coffs%20Coast":MAILTO:coffscoast@novaskill.com.au
END:VEVENT
END:VCALENDAR