BEGIN:VCALENDAR
VERSION:2.0
PRODID:-//Novaskill - ECPv6.0.11//NONSGML v1.0//EN
CALSCALE:GREGORIAN
METHOD:PUBLISH
X-WR-CALNAME:Novaskill
X-ORIGINAL-URL:https://novaskill.com.au
X-WR-CALDESC:Events for Novaskill
REFRESH-INTERVAL;VALUE=DURATION:PT1H
X-Robots-Tag:noindex
X-PUBLISHED-TTL:PT1H
BEGIN:VTIMEZONE
TZID:Australia/Sydney
BEGIN:STANDARD
TZOFFSETFROM:+1100
TZOFFSETTO:+1000
TZNAME:AEST
DTSTART:20210403T160000
END:STANDARD
BEGIN:DAYLIGHT
TZOFFSETFROM:+1000
TZOFFSETTO:+1100
TZNAME:AEDT
DTSTART:20211002T160000
END:DAYLIGHT
END:VTIMEZONE
BEGIN:VEVENT
DTSTART;TZID=Australia/Sydney:20210409T090000
DTEND;TZID=Australia/Sydney:20210409T170000
DTSTAMP:20260426T113134
CREATED:20210413T014740Z
LAST-MODIFIED:20210526T234712Z
UID:17576-1617958800-1617987600@novaskill.com.au
SUMMARY:Certificate III in Business
DESCRIPTION:Get started\, get ahead\, and get qualified in business! If you’re ready to kickstart a career in business\, BSB30115 Certificate III in Business is for you! Built for flexibility with the support of our experienced Newcastle-based trainers\, you have an opportunity to study online\, via correspondence or as a traineeship (if you’re already employed). \nPrice is determined upon eligibility requirements and concessions may be available. For more details\, please contact our team. \n 
URL:https://novaskill.com.au/course-calendar/bsb30115-newc/
LOCATION:Online\, Australia
CATEGORIES:Business Services
ATTACH;FMTTYPE=image/jpeg:https://novaskill.com.au/wp-content/uploads/2021/04/shutterstock_450689383-scaled.jpg
ORGANIZER;CN="Novaskill%20Newcastle":MAILTO:newcastle@novaskill.com.au
END:VEVENT
BEGIN:VEVENT
DTSTART;TZID=Australia/Sydney:20210412T090000
DTEND;TZID=Australia/Sydney:20210412T160000
DTSTAMP:20260426T113134
CREATED:20201217T024914Z
LAST-MODIFIED:20210408T054132Z
UID:16377-1618218000-1618243200@novaskill.com.au
SUMMARY:Certificate III in Business - Coffs Coast
DESCRIPTION:Thinking about a 9-5 world? Break into business and gain a BSB30115 Certificate III in Business with Novaskill Coffs Coast! Study at your own pace\, in your own time with assistance from our local trainers. Fee free training is available now for eligible students so please speak to us for details.
URL:https://novaskill.com.au/course-calendar/bsb30115-coffs2021/
LOCATION:Self-paced (mixed mode)
CATEGORIES:Business Services
ATTACH;FMTTYPE=image/jpeg:https://novaskill.com.au/wp-content/uploads/2018/06/shutterstock_123203863-e1529904914696.jpg
ORGANIZER;CN="Novaskill%20Coffs%20Coast":MAILTO:coffscoast@novaskill.com.au
END:VEVENT
END:VCALENDAR