BEGIN:VCALENDAR
VERSION:2.0
PRODID:-//Novaskill - ECPv6.0.11//NONSGML v1.0//EN
CALSCALE:GREGORIAN
METHOD:PUBLISH
X-WR-CALNAME:Novaskill
X-ORIGINAL-URL:https://novaskill.com.au
X-WR-CALDESC:Events for Novaskill
REFRESH-INTERVAL;VALUE=DURATION:PT1H
X-Robots-Tag:noindex
X-PUBLISHED-TTL:PT1H
BEGIN:VTIMEZONE
TZID:Australia/Sydney
BEGIN:STANDARD
TZOFFSETFROM:+1100
TZOFFSETTO:+1000
TZNAME:AEST
DTSTART:20240406T160000
END:STANDARD
BEGIN:DAYLIGHT
TZOFFSETFROM:+1000
TZOFFSETTO:+1100
TZNAME:AEDT
DTSTART:20241005T160000
END:DAYLIGHT
END:VTIMEZONE
BEGIN:VEVENT
DTSTART;TZID=Australia/Sydney:20240325T083000
DTEND;TZID=Australia/Sydney:20240326T163000
DTSTAMP:20260423T232739
CREATED:20240117T025612Z
LAST-MODIFIED:20240321T022650Z
UID:21915-1711355400-1711470600@novaskill.com.au
SUMMARY:RSA/RCG - Coffs Coast
DESCRIPTION:Study SITHFAB002 Provide Responsible Service of Alcohol\, commonly known as RSA and SITHGAM001 Provide Responsible Gambling Services\, commonly known as RCG with us in our Coffs Coast based office. Both courses take a full day and are run over a 2-day period with RSA on the first day and RCG on the second. We also require Photo ID and a USI upon enrolment. Enrol now just $349 for both!
URL:https://novaskill.com.au/course-calendar/rsa-rcg-course-cc-feb-2-2-2/
LOCATION:Novaskill Coffs Coast Office\, Suite 101-102\, 24 Moonee Street\,\, Coffs Harbour\, NSW\, 2450\, Australia
CATEGORIES:Hospitality,RSA RCG
ATTACH;FMTTYPE=image/jpeg:https://novaskill.com.au/wp-content/uploads/2022/06/shutterstock_785282029-scaled.jpg
ORGANIZER;CN="Novaskill%20Coffs%20Coast":MAILTO:coffscoast@novaskill.com.au
END:VEVENT
BEGIN:VEVENT
DTSTART;TZID=Australia/Sydney:20240325T090000
DTEND;TZID=Australia/Sydney:20240325T140000
DTSTAMP:20260423T232739
CREATED:20240124T041423Z
LAST-MODIFIED:20240124T041423Z
UID:21954-1711357200-1711375200@novaskill.com.au
SUMMARY:Mental Health First Aid - Gold Coast
DESCRIPTION:Mental Health First Aid (MHFA) teaches participants how to assist people who are developing a mental health problem\, experiencing a worsening of an existing mental health problem or in a mental health crisis\, until appropriate professional help is received or the crisis resolves. Enrol now in this mixed-mode course\, running face-to-face with a qualified instructor for one day (5 hours) in the Gold Coast\, and approx. 5 hours online study.
URL:https://novaskill.com.au/course-calendar/mental-health-first-aid-gc-mar-25/
LOCATION:Novaskill Gold Coast Office\, Suite 1\, 146 Bundall Road\,\, Bunal\, QLD\, 4217\, Australia
CATEGORIES:Mental Health First Aid
ATTACH;FMTTYPE=image/jpeg:https://novaskill.com.au/wp-content/uploads/2020/07/Standard_MHFA_Hero_image_1600x900.jpg
ORGANIZER;CN="Novaskill%20Gold%20Coast":MAILTO:southeastqueensland@novaskill.com.au
END:VEVENT
END:VCALENDAR