BEGIN:VCALENDAR
VERSION:2.0
PRODID:-//Novaskill - ECPv6.0.11//NONSGML v1.0//EN
CALSCALE:GREGORIAN
METHOD:PUBLISH
X-WR-CALNAME:Novaskill
X-ORIGINAL-URL:https://novaskill.com.au
X-WR-CALDESC:Events for Novaskill
REFRESH-INTERVAL;VALUE=DURATION:PT1H
X-Robots-Tag:noindex
X-PUBLISHED-TTL:PT1H
BEGIN:VTIMEZONE
TZID:Australia/Sydney
BEGIN:STANDARD
TZOFFSETFROM:+1100
TZOFFSETTO:+1000
TZNAME:AEST
DTSTART:20230401T160000
END:STANDARD
BEGIN:DAYLIGHT
TZOFFSETFROM:+1000
TZOFFSETTO:+1100
TZNAME:AEDT
DTSTART:20230930T160000
END:DAYLIGHT
END:VTIMEZONE
BEGIN:VEVENT
DTSTART;TZID=Australia/Sydney:20231010T083000
DTEND;TZID=Australia/Sydney:20231011T163000
DTSTAMP:20260420T084151
CREATED:20230906T050355Z
LAST-MODIFIED:20230906T050355Z
UID:21698-1696926600-1697041800@novaskill.com.au
SUMMARY:RSA and RCG - Coffs Coast
DESCRIPTION:Get your RSA and RCG in just two days by completing SITHFAB021 Provide Responsible Service of Alcohol and  SITHGAM022 Provide Responsible Gambling Services\, at our Coffs Coast based office. Course runs from 8:30am – 4:30pm over two days. Photo ID and USI are required. Includes Liquor and Gaming NSW Competency Card. Now just $349 for both RSA and RCG. For more details\, please contact our team.
URL:https://novaskill.com.au/course-calendar/rsa-rcg-coffs-october-23-2-2/
LOCATION:Novaskill Coffs Coast Office\, Suite 101-102\, 24 Moonee Street\,\, Coffs Harbour\, NSW\, 2450\, Australia
CATEGORIES:Hospitality,RSA RCG
ATTACH;FMTTYPE=image/jpeg:https://novaskill.com.au/wp-content/uploads/2017/08/black-and-white-alcohol-bar-drinks.jpg
ORGANIZER;CN="Novaskill%20Coffs%20Coast":MAILTO:coffscoast@novaskill.com.au
END:VEVENT
END:VCALENDAR