BEGIN:VCALENDAR
VERSION:2.0
PRODID:-//Novaskill - ECPv6.0.11//NONSGML v1.0//EN
CALSCALE:GREGORIAN
METHOD:PUBLISH
X-WR-CALNAME:Novaskill
X-ORIGINAL-URL:https://novaskill.com.au
X-WR-CALDESC:Events for Novaskill
REFRESH-INTERVAL;VALUE=DURATION:PT1H
X-Robots-Tag:noindex
X-PUBLISHED-TTL:PT1H
BEGIN:VTIMEZONE
TZID:Australia/Sydney
BEGIN:STANDARD
TZOFFSETFROM:+1100
TZOFFSETTO:+1000
TZNAME:AEST
DTSTART:20220402T160000
END:STANDARD
BEGIN:DAYLIGHT
TZOFFSETFROM:+1000
TZOFFSETTO:+1100
TZNAME:AEDT
DTSTART:20221001T160000
END:DAYLIGHT
END:VTIMEZONE
BEGIN:VEVENT
DTSTART;TZID=Australia/Sydney:20221101T090000
DTEND;TZID=Australia/Sydney:20221103T160000
DTSTAMP:20260422T215125
CREATED:20221017T004051Z
LAST-MODIFIED:20221017T004051Z
UID:20751-1667293200-1667491200@novaskill.com.au
SUMMARY:Summer Skills (Hunter Valley)
DESCRIPTION:RSA\, RCG and Interact with Customers – Three skills to get you one great summer job! \nComplete your Responsible Service of Alcohol (RSA) and Responsible Conduct of Gambling (RCG) training and SITXCCS003 Interact with customers over four days and walk away with a nationally recognised accreditation and Liquor and Gaming NSW Competency Card (valid in NSW for 5 years) plus a statement of attainment for SITHFAB002 Provide responsible service of alcohol and SITHGAM001 Provide Responsible Gambling Services.
URL:https://novaskill.com.au/course-calendar/summer-skills-hv/
LOCATION:Private: Novaskill Hunter Valley Office\, 1/162 John Street\,\, Singleton\, NSW\, 2330\, Australia
ATTACH;FMTTYPE=image/jpeg:https://novaskill.com.au/wp-content/uploads/2022/08/pexels-mikhail-nilov-8920042-scaled.jpg
ORGANIZER;CN="Novaskill%20Hunter%20Valley":MAILTO:huntervalley@novaskill.com.au
END:VEVENT
BEGIN:VEVENT
DTSTART;TZID=Australia/Sydney:20221102T080000
DTEND;TZID=Australia/Sydney:20221102T170000
DTSTAMP:20260422T215125
CREATED:20220919T020349Z
LAST-MODIFIED:20220919T020623Z
UID:20615-1667376000-1667408400@novaskill.com.au
SUMMARY:Recruitment Day - Newcastle
DESCRIPTION:Still not sure what you want to do after school? Considering a traineeship or apprenticeship? \nREGISTER NOW for Novaskill Newcastle’s Recruitment Day!\nThrow your hat in the ring to gain an apprenticeship or traineeship with us! We are looking for hard-working\, motivated candidates who want to pursue a career as: \n\nAn electrician\,\nA plumber/roof plumber\,\nA metal fabricator\,\nA business administrator\, or\nA warehousing (supply chain logistics) worker.\n\nWe have the following times available: \n\n10 am\, Wednesday 2nd November\n1 pm\, Wednesday 2nd November\n5 pm\, Wednesday 2nd November\n10 am\, Monday 7th November\n1 pm\, Monday 7th November
URL:https://novaskill.com.au/course-calendar/recruitment-day-new-nov/
LOCATION:Novaskill Newcastle Office\, 148 Lambton Road\, Broadmeadow\, NSW\, 2292\, Australia
ATTACH;FMTTYPE=image/png:https://novaskill.com.au/wp-content/uploads/2022/09/Untitled-design-11.png
ORGANIZER;CN="Novaskill%20Newcastle":MAILTO:newcastle@novaskill.com.au
END:VEVENT
BEGIN:VEVENT
DTSTART;TZID=Australia/Sydney:20221102T090000
DTEND;TZID=Australia/Sydney:20221102T160000
DTSTAMP:20260422T215125
CREATED:20221017T002345Z
LAST-MODIFIED:20221017T002345Z
UID:20742-1667379600-1667404800@novaskill.com.au
SUMMARY:Certificate III in Individual Support
DESCRIPTION:Join Australia’s largest growing industry and begin studying CHC33015 Certificate III in Individual Support. Price is determined upon eligibility requirements and concessions may be available. For more details\, please contact our team. \n*This course includes 120 hours of work placement that will require a current Australian Federal Police Check. Please speak to us for details.
URL:https://novaskill.com.au/course-calendar/certificate-iii-in-individual-tam-nov/
LOCATION:Novaskill New England\, Suite 1\, 137 Marius Street\, Tamworth\, NSW\, 2340\, Australia
CATEGORIES:Individual Support,Community Services
ATTACH;FMTTYPE=image/jpeg:https://novaskill.com.au/wp-content/uploads/2018/01/shutterstock_371490046.jpg
ORGANIZER;CN="Novaskill%20New%20England":MAILTO:kellyc@novaskill.com.au
END:VEVENT
END:VCALENDAR