BEGIN:VCALENDAR
VERSION:2.0
PRODID:-//Novaskill - ECPv6.0.11//NONSGML v1.0//EN
CALSCALE:GREGORIAN
METHOD:PUBLISH
X-ORIGINAL-URL:https://novaskill.com.au
X-WR-CALDESC:Events for Novaskill
REFRESH-INTERVAL;VALUE=DURATION:PT1H
X-Robots-Tag:noindex
X-PUBLISHED-TTL:PT1H
BEGIN:VTIMEZONE
TZID:Australia/Sydney
BEGIN:STANDARD
TZOFFSETFROM:+1100
TZOFFSETTO:+1000
TZNAME:AEST
DTSTART:20220402T160000
END:STANDARD
BEGIN:DAYLIGHT
TZOFFSETFROM:+1000
TZOFFSETTO:+1100
TZNAME:AEDT
DTSTART:20221001T160000
END:DAYLIGHT
END:VTIMEZONE
BEGIN:VEVENT
DTSTART;TZID=Australia/Sydney:20221031T083000
DTEND;TZID=Australia/Sydney:20221031T160000
DTSTAMP:20260423T185702
CREATED:20221013T054353Z
LAST-MODIFIED:20221214T212903Z
UID:20724-1667205000-1667232000@novaskill.com.au
SUMMARY:First Aid Certificate - New England
DESCRIPTION:Be prepared in an emergency by completing your first aid certificate with H&A Training at Novaskill. Includes HLTAID009 Provide cardiopulmonary resuscitation\, HLTAID010 Provide basic emergency life support and HLTAID011 Provide First Aid. Enquire now for full course and CPR only prices. \nPlease note: statement of attainment will be issued by H&A Training RTO 90871.
URL:https://novaskill.com.au/course-calendar/first-aid-certificate-cc-tam/
LOCATION:Novaskill New England\, Suite 1\, 137 Marius Street\, Tamworth\, NSW\, 2340\, Australia
CATEGORIES:First Aid
ATTACH;FMTTYPE=image/jpeg:https://novaskill.com.au/wp-content/uploads/2022/06/shutterstock_1039228732-scaled.jpg
ORGANIZER;CN="Novaskill%20New%20England":MAILTO:kellyc@novaskill.com.au
END:VEVENT
BEGIN:VEVENT
DTSTART;TZID=Australia/Sydney:20221031T090000
DTEND;TZID=Australia/Sydney:20221031T170000
DTSTAMP:20260423T185702
CREATED:20220503T043111Z
LAST-MODIFIED:20220915T004125Z
UID:19997-1667206800-1667235600@novaskill.com.au
SUMMARY:Certificate IV in Training and Assessment
DESCRIPTION:Not quite ready for retirement but looking for a change of pace? Or perhaps you’ve had an injury and can no longer work in the way you once did? Whatever your reason for wanting to do something new\, this highly sought after qualification will give you the skills and confidence to teach the next generation of workers in your industry. Don’t let your years of experience go to waste! Impart your passion\, skills\, and knowledge and ‘give back’ to the newest recruits in your industry. Quality Training and Assessment skills are valuable to so many businesses. \nIf you are looking to enhance your skills and ability to accurately train individuals then TAE40116 Certificate IV in Training and Assessment is the course for you! Built for flexibility\, study via our online virtual class held Mondays (9 am-3:30 pm) and Tuesdays (from 4:30 pm – 7:30 pm). Find your closest branch and enrol now! \nPrice is determined upon eligibility requirements and concessions may be available. For more details\, please contact our team. \n 
URL:https://novaskill.com.au/course-calendar/certificate-iv-in-training-and-assessment-online/
LOCATION:Online\, Australia
CATEGORIES:Training and Assessment
ATTACH;FMTTYPE=image/jpeg:https://novaskill.com.au/wp-content/uploads/2022/05/shutterstock_1708897081-scaled.jpg
ORGANIZER;CN="Novaskill%20Central%20Coast":MAILTO:centralcoast@novaskill.com.au
END:VEVENT
END:VCALENDAR