BEGIN:VCALENDAR
VERSION:2.0
PRODID:-//Novaskill - ECPv6.0.11//NONSGML v1.0//EN
CALSCALE:GREGORIAN
METHOD:PUBLISH
X-ORIGINAL-URL:https://novaskill.com.au
X-WR-CALDESC:Events for Novaskill
REFRESH-INTERVAL;VALUE=DURATION:PT1H
X-Robots-Tag:noindex
X-PUBLISHED-TTL:PT1H
BEGIN:VTIMEZONE
TZID:Australia/Sydney
BEGIN:STANDARD
TZOFFSETFROM:+1100
TZOFFSETTO:+1000
TZNAME:AEST
DTSTART:20220402T160000
END:STANDARD
BEGIN:DAYLIGHT
TZOFFSETFROM:+1000
TZOFFSETTO:+1100
TZNAME:AEDT
DTSTART:20221001T160000
END:DAYLIGHT
END:VTIMEZONE
BEGIN:VEVENT
DTSTART;VALUE=DATE:20221027
DTEND;VALUE=DATE:20221029
DTSTAMP:20260419T234848
CREATED:20220620T020613Z
LAST-MODIFIED:20220620T020613Z
UID:20321-1666828800-1667001599@novaskill.com.au
SUMMARY:RSA/RCG Course
DESCRIPTION:Study SITHFAB002 Provide Responsible Service of Alcohol\, commonly known as RSA and SITHGAM001 Provide Responsible Gambling Services\, commonly known as RCG with us in our Central Coast based office. Both courses take a full day and are run over a 2-day period with RSA on the first day and RCG on the second. We also require Photo ID and a USI upon enrolment. Enrol now just $250 for both!
URL:https://novaskill.com.au/course-calendar/rsa-rcg-course-cc-oct/
LOCATION:Novaskill Central Coast Office\, Suite 15\, 1 Reliance Drive\,\, Tuggerah\, NSW\, 2259\, Australia
CATEGORIES:Hospitality,RSA RCG
ATTACH;FMTTYPE=image/jpeg:https://novaskill.com.au/wp-content/uploads/2022/06/shutterstock_785282029-scaled.jpg
ORGANIZER;CN="Novaskill%20Central%20Coast":MAILTO:centralcoast@novaskill.com.au
END:VEVENT
END:VCALENDAR