BEGIN:VCALENDAR
VERSION:2.0
PRODID:-//Novaskill - ECPv6.0.11//NONSGML v1.0//EN
CALSCALE:GREGORIAN
METHOD:PUBLISH
X-WR-CALNAME:Novaskill
X-ORIGINAL-URL:https://novaskill.com.au
X-WR-CALDESC:Events for Novaskill
REFRESH-INTERVAL;VALUE=DURATION:PT1H
X-Robots-Tag:noindex
X-PUBLISHED-TTL:PT1H
BEGIN:VTIMEZONE
TZID:Australia/Sydney
BEGIN:STANDARD
TZOFFSETFROM:+1100
TZOFFSETTO:+1000
TZNAME:AEST
DTSTART:20220402T160000
END:STANDARD
BEGIN:DAYLIGHT
TZOFFSETFROM:+1000
TZOFFSETTO:+1100
TZNAME:AEDT
DTSTART:20221001T160000
END:DAYLIGHT
END:VTIMEZONE
BEGIN:VEVENT
DTSTART;TZID=Australia/Sydney:20221025T090000
DTEND;TZID=Australia/Sydney:20221026T170000
DTSTAMP:20260422T192250
CREATED:20211213T054949Z
LAST-MODIFIED:20211213T054949Z
UID:19399-1666688400-1666803600@novaskill.com.au
SUMMARY:RSA/RCG Course
DESCRIPTION:Study SITHFAB002 Provide Responsible Service of Alcohol\, commonly known as RSA and SITHGAM001 Provide Responsible Gambling Services\, commonly known as RCG with us in our Coffs Coast based office. Both courses take a full day and are run over a 2-day period with RSA on the first day and RCG on the second. We also require Photo ID and a USI upon enrolment. Enrol now just $250 for both!
URL:https://novaskill.com.au/course-calendar/rsa-rcg-course-15/
LOCATION:Novaskill Coffs Coast Office\, Suite 101-102\, 24 Moonee Street\,\, Coffs Harbour\, NSW\, 2450\, Australia
CATEGORIES:Hospitality,RSA RCG
ATTACH;FMTTYPE=image/jpeg:https://novaskill.com.au/wp-content/uploads/2019/09/shutterstock_785282029.jpg
ORGANIZER;CN="Novaskill%20Coffs%20Coast":MAILTO:coffscoast@novaskill.com.au
END:VEVENT
BEGIN:VEVENT
DTSTART;TZID=Australia/Sydney:20221025T090000
DTEND;TZID=Australia/Sydney:20221027T160000
DTSTAMP:20260422T192250
CREATED:20221017T004922Z
LAST-MODIFIED:20221017T005151Z
UID:20750-1666688400-1666886400@novaskill.com.au
SUMMARY:Summer Skills (Central Coast)
DESCRIPTION:RSA\, RCG and Hygienic Practices – Three skills to get you one great summer job! \nComplete your Responsible Service of Alcohol (RSA) and Responsible Conduct of Gambling (RCG) training and SITXFSA001 Use hygienic practices for food safety over four days and walk away with a nationally recognised accreditation and Liquor and Gaming NSW Competency Card (valid in NSW for 5 years) plus a statement of attainment for SITHFAB002 Provide responsible service of alcohol and SITHGAM001 Provide Responsible Gambling Services. \nPlease note: the course will be held between two venues. \nTuesday 25th & Wednesday 26th October at The Entrance Leagues Club (3 Bay Village Rd\, Bateau Bay NSW 2261)\nThursday\, 27th October at Novaskill Central Coast (15/1 Reliance Dr\, Tuggerah NSW 2259) \n 
URL:https://novaskill.com.au/course-calendar/summer-skills-cc/
LOCATION:NSW
ATTACH;FMTTYPE=image/jpeg:https://novaskill.com.au/wp-content/uploads/2022/08/pexels-mikhail-nilov-8920042-scaled.jpg
ORGANIZER;CN="Novaskill%20Central%20Coast":MAILTO:centralcoast@novaskill.com.au
END:VEVENT
BEGIN:VEVENT
DTSTART;TZID=Australia/Sydney:20221026T090000
DTEND;TZID=Australia/Sydney:20221026T160000
DTSTAMP:20260422T192250
CREATED:20220620T012847Z
LAST-MODIFIED:20220620T012847Z
UID:20297-1666774800-1666800000@novaskill.com.au
SUMMARY:RSA Course
DESCRIPTION:Get your RSA in one day by completing SITHFAB002 Provide Responsible Service of Alcohol\, at our Central Coast based office. Course runs from 9am – 4pm. Photo ID and USI required. Includes Liquor and Gaming NSW Competency Card. Now just $195 per person or $250 for both RSA and RCG. For more details\, please contact our team.
URL:https://novaskill.com.au/course-calendar/rsa-course-cc-oct/
LOCATION:Novaskill Central Coast Office\, Suite 15\, 1 Reliance Drive\,\, Tuggerah\, NSW\, 2259\, Australia
CATEGORIES:Hospitality,RSA RCG
ATTACH;FMTTYPE=image/jpeg:https://novaskill.com.au/wp-content/uploads/2017/08/black-and-white-alcohol-bar-drinks.jpg
ORGANIZER;CN="Novaskill%20Central%20Coast":MAILTO:centralcoast@novaskill.com.au
END:VEVENT
BEGIN:VEVENT
DTSTART;TZID=Australia/Sydney:20221026T090000
DTEND;TZID=Australia/Sydney:20221026T170000
DTSTAMP:20260422T192250
CREATED:20211213T055347Z
LAST-MODIFIED:20211213T055347Z
UID:19403-1666774800-1666803600@novaskill.com.au
SUMMARY:RCG Course
DESCRIPTION:Get your RCG in one day by completing SITHGAM001 Provide Responsible Gambling Services\, commonly known as RCG with us at Coffs Coast based office. Course runs from 9am – 5pm. Photo ID and USI are required. A generous discount is available if completing SITHFAB002 Provide Responsible Service of Alcohol\, commonly known as RSA also. Now just $130 per person or $250 for both RSA & RCG. \nFor more details\, please contact our team.
URL:https://novaskill.com.au/course-calendar/rcg-course-18/
LOCATION:Novaskill Coffs Coast Office\, Suite 101-102\, 24 Moonee Street\,\, Coffs Harbour\, NSW\, 2450\, Australia
CATEGORIES:Hospitality,RSA RCG
ATTACH;FMTTYPE=image/jpeg:https://novaskill.com.au/wp-content/uploads/2017/08/addiction-bet-betting-casino.jpg
ORGANIZER;CN="Novaskill%20Coffs%20Coast":MAILTO:coffscoast@novaskill.com.au
END:VEVENT
END:VCALENDAR